|PENDING| [GIT MASTER] 47768aac18d7d90d7df29d9d25bbc362c7b4da60
dpdklab at iol.unh.edu
dpdklab at iol.unh.edu
Tue Jul 2 15:58:47 CEST 2024
_Testing pending_
Branch: dpdk-next-net-intel
47768aac18d7d90d7df29d9d25bbc362c7b4da60 --> testing pending
Test environment and result as below:
+---------------------+----------------------+--------------------+-------------------+
| Environment | dpdk_mingw64_compile | dpdk_meson_compile | dpdk_msvc_compile |
+=====================+======================+====================+===================+
| Windows Server 2019 | PASS | PEND | SKIPPED |
+---------------------+----------------------+--------------------+-------------------+
| Windows Server 2022 | PASS | PEND | PEND |
+---------------------+----------------------+--------------------+-------------------+
| FreeBSD 13.3 | SKIPPED | PASS | SKIPPED |
+---------------------+----------------------+--------------------+-------------------+
| FreeBSD 14.1 | SKIPPED | PEND | SKIPPED |
+---------------------+----------------------+--------------------+-------------------+
Windows Server 2019
Kernel: 10.0.17763
Compiler: clang 14.0 and gcc 8.1.0 (MinGW)
Windows Server 2022
Kernel: 10.0.20348.2031
Compiler: clang 15.0.7, gcc 8.1.0 (MinGW), and MSVC VS 17.9
FreeBSD 13.3
Kernel: 13.3-RELEASE-p1
Compiler: clang 17.0.6
FreeBSD 14.1
Kernel: 14.1
Compiler: clang 18.1.5
To view detailed results, visit:
https://lab.dpdk.org/results/dashboard/tarballs/29678/
UNH-IOL DPDK Community Lab
To manage your email subscriptions, visit:
https://lab.dpdk.org/results/dashboard/preferences/subscriptions/
More information about the test-report
mailing list