|PENDING| pw142013 [PATCH] [v2] net/ice: support FEC feature
    dpdklab at iol.unh.edu 
    dpdklab at iol.unh.edu
       
    Tue Jul  2 22:17:17 CEST 2024
    
    
  
Test-Label: iol-unit-arm64-testing
Test-Status: PENDING
http://dpdk.org/patch/142013
_Testing pending_
Submitter: Mingjin Ye <mingjinx.ye at intel.com>
Date: Tuesday, July 02 2024 08:02:44 
DPDK git baseline: Repo:dpdk
  Branch: master
  CommitID:47768aac18d7d90d7df29d9d25bbc362c7b4da60
142013 --> testing pending
Test environment and result as below:
+-----------------------------+------------------------------+--------------+---------------------------+----------------+
|         Environment         | cryptodev_sw_snow3g_autotest | lpm_autotest | cryptodev_sw_zuc_autotest | dpdk_unit_test |
+=============================+==============================+==============+===========================+================+
| Debian 12 (arm)             | PASS                         | SKIPPED      | PASS                      | PEND           |
+-----------------------------+------------------------------+--------------+---------------------------+----------------+
| Ubuntu 20.04 ARM SVE        | SKIPPED                      | PASS         | SKIPPED                   | SKIPPED        |
+-----------------------------+------------------------------+--------------+---------------------------+----------------+
| CentOS Stream 9 (ARM)       | SKIPPED                      | SKIPPED      | SKIPPED                   | PASS           |
+-----------------------------+------------------------------+--------------+---------------------------+----------------+
| Debian 11 (Buster) (ARM)    | SKIPPED                      | SKIPPED      | SKIPPED                   | PASS           |
+-----------------------------+------------------------------+--------------+---------------------------+----------------+
| Fedora 37 (ARM)             | SKIPPED                      | SKIPPED      | SKIPPED                   | PASS           |
+-----------------------------+------------------------------+--------------+---------------------------+----------------+
| 32-bit Ubuntu 20.04.4 (ARM) | SKIPPED                      | SKIPPED      | SKIPPED                   | PASS           |
+-----------------------------+------------------------------+--------------+---------------------------+----------------+
| Fedora 38 (ARM Clang)       | SKIPPED                      | SKIPPED      | SKIPPED                   | PASS           |
+-----------------------------+------------------------------+--------------+---------------------------+----------------+
| Fedora 38 (ARM)             | SKIPPED                      | SKIPPED      | SKIPPED                   | PASS           |
+-----------------------------+------------------------------+--------------+---------------------------+----------------+
| Fedora 39 (ARM)             | SKIPPED                      | SKIPPED      | SKIPPED                   | PASS           |
+-----------------------------+------------------------------+--------------+---------------------------+----------------+
| Fedora 39 (ARM Clang)       | SKIPPED                      | SKIPPED      | SKIPPED                   | PASS           |
+-----------------------------+------------------------------+--------------+---------------------------+----------------+
| Fedora 40 (ARM)             | SKIPPED                      | SKIPPED      | SKIPPED                   | PASS           |
+-----------------------------+------------------------------+--------------+---------------------------+----------------+
| Fedora 40 (ARM Clang)       | SKIPPED                      | SKIPPED      | SKIPPED                   | PASS           |
+-----------------------------+------------------------------+--------------+---------------------------+----------------+
| RHEL9 (ARM)                 | SKIPPED                      | SKIPPED      | SKIPPED                   | PASS           |
+-----------------------------+------------------------------+--------------+---------------------------+----------------+
| Ubuntu 20.04 (ARM)          | SKIPPED                      | SKIPPED      | SKIPPED                   | PEND           |
+-----------------------------+------------------------------+--------------+---------------------------+----------------+
| Ubuntu 24.04 (ARM)          | SKIPPED                      | SKIPPED      | SKIPPED                   | PEND           |
+-----------------------------+------------------------------+--------------+---------------------------+----------------+
| Ubuntu 22.04 (ARM)          | SKIPPED                      | SKIPPED      | SKIPPED                   | PEND           |
+-----------------------------+------------------------------+--------------+---------------------------+----------------+
Debian 12 (arm)
	Kernel: Container Host Kernel
	Compiler: gcc 12.2.0
Ubuntu 20.04 ARM SVE
	Kernel: 5.4.0-167-generic
	Compiler: gcc (Ubuntu 10.5.0-1ubuntu1~20.04) 10.5.0
CentOS Stream 9 (ARM)
	Kernel: Container Host Kernel
	Compiler: gcc 11.4.1
Debian 11 (Buster) (ARM)
	Kernel: Container Host Kernel
	Compiler: gcc 10.2.1
Fedora 37 (ARM)
	Kernel: Depends on container host
	Compiler: gcc 12.3.1
32-bit Ubuntu 20.04.4 (ARM)
	Kernel: 5.4.0-155-generic aarch64
	Compiler: gcc 9.4
Fedora 38 (ARM Clang)
	Kernel: Depends on container host
	Compiler: clang 16.0.6
Fedora 38 (ARM)
	Kernel: Depends on container host
	Compiler: gcc 13.2.1
Fedora 39 (ARM)
	Kernel: Depends on container host
	Compiler: gcc 13.2.1
Fedora 39 (ARM Clang)
	Kernel: Depends on container host
	Compiler: clang 17.0.6
Fedora 40 (ARM)
	Kernel: Depends on container host
	Compiler: gcc 14.1.1
Fedora 40 (ARM Clang)
	Kernel: Depends on container host
	Compiler: clang 18.1.6
RHEL9 (ARM)
	Kernel: Depends on container host
	Compiler: gcc 11.4.1
Ubuntu 20.04 (ARM)
	Kernel: Container Host Kernel
	Compiler: gcc 9.4.0
Ubuntu 24.04 (ARM)
	Kernel: 5.4.0-167-generic
	Compiler: gcc 13.2.0
Ubuntu 22.04 (ARM)
	Kernel: Container Host Kernel
	Compiler: gcc 11.4.0
To view detailed results, visit:
https://lab.dpdk.org/results/dashboard/patchsets/30372/
UNH-IOL DPDK Community Lab
To manage your email subscriptions, visit: 
https://lab.dpdk.org/results/dashboard/preferences/subscriptions/
    
    
More information about the test-report
mailing list