|PENDING| pw141726 [PATCH] net/vmxnet3: fix init logs
    dpdklab at iol.unh.edu 
    dpdklab at iol.unh.edu
       
    Wed Jul  3 00:17:03 CEST 2024
    
    
  
Test-Label: iol-abi-testing
Test-Status: PENDING
http://dpdk.org/patch/141726
_Testing pending_
Submitter: David Marchand <david.marchand at redhat.com>
Date: Tuesday, June 25 2024 12:22:52 
DPDK git baseline: Repo:dpdk
  Branch: master
  CommitID:fbba6db3640f9f623c29c452e1a6b057073e81d2
141726 --> testing pending
Test environment and result as below:
+-------------------+----------+
|    Environment    | abi_test |
+===================+==========+
| Fedora 37         | PEND     |
+-------------------+----------+
| CentOS Stream 9   | PASS     |
+-------------------+----------+
| Fedora 40 (Clang) | PASS     |
+-------------------+----------+
| openSUSE Leap 15  | PEND     |
+-------------------+----------+
| CentOS Stream 8   | PASS     |
+-------------------+----------+
| Fedora 40         | PEND     |
+-------------------+----------+
| RHEL8             | PASS     |
+-------------------+----------+
| RHEL9             | PEND     |
+-------------------+----------+
| Ubuntu 22.04      | PEND     |
+-------------------+----------+
| Debian 12         | PEND     |
+-------------------+----------+
| Debian Bullseye   | PASS     |
+-------------------+----------+
| Fedora 38         | PEND     |
+-------------------+----------+
| Fedora 39         | PEND     |
+-------------------+----------+
| Fedora 39 (Clang) | PEND     |
+-------------------+----------+
| Fedora 38 (Clang) | PASS     |
+-------------------+----------+
| Ubuntu 24.04      | PEND     |
+-------------------+----------+
Fedora 37
	Kernel: Depends on container host system
	Compiler: gcc 12.3.1
CentOS Stream 9
	Kernel: 5.4.0-167-generic
	Compiler: gcc 11.4.1 20230605
Fedora 40 (Clang)
	Kernel: Depends on container host
	Compiler: clang 18.1.6
openSUSE Leap 15
	Kernel: 5.4.0-167-generic
	Compiler: gcc 7.5.0
CentOS Stream 8
	Kernel: 5.4.0-167-generic
	Compiler: gcc 8.5.0 20210514
Fedora 40
	Kernel: Depends on container host
	Compiler: gcc 14.1.1
RHEL8
	Kernel: 5.4.0-167-generic
	Compiler: gcc 8.5.0 20210514 (Red Hat 8.5.0-20)
RHEL9
	Kernel: Depends on container host
	Compiler: gcc 11.4.1
Ubuntu 22.04
	Kernel: 5.4.0-167-generic
	Compiler: gcc 11.4.0
Debian 12
	Kernel: Container Host Kernel
	Compiler: gcc 12.2.0
Debian Bullseye
	Kernel: 5.4.0-167-generic
	Compiler: gcc 10.2.1-6
Fedora 38
	Kernel: Depends on container host
	Compiler: gcc 13.2.1
Fedora 39
	Kernel: Depends on container host
	Compiler: gcc 13.2.1
Fedora 39 (Clang)
	Kernel: Depends on container host
	Compiler: clang 17.0.6
Fedora 38 (Clang)
	Kernel: Depends on container host
	Compiler: clang 16.0.6
Ubuntu 24.04
	Kernel: 5.4.0-167-generic
	Compiler: gcc 13.2.0
To view detailed results, visit:
https://lab.dpdk.org/results/dashboard/patchsets/30306/
UNH-IOL DPDK Community Lab
To manage your email subscriptions, visit: 
https://lab.dpdk.org/results/dashboard/preferences/subscriptions/
    
    
More information about the test-report
mailing list