|PENDING| pw142020-142022 [PATCH] [v3,3/3] drivers: replace printf w
    dpdklab at iol.unh.edu 
    dpdklab at iol.unh.edu
       
    Wed Jul  3 11:09:31 CEST 2024
    
    
  
Test-Label: iol-compile-arm64-testing
Test-Status: PENDING
http://dpdk.org/patch/142022
_Testing pending_
Submitter: Hemant Agrawal <hemant.agrawal at nxp.com>
Date: Tuesday, July 02 2024 13:08:56 
DPDK git baseline: Repo:dpdk
  Branch: master
  CommitID:c15902587b538ff02cfb0fbb4dd481f1503d936b
142020-142022 --> testing pending
Test environment and result as below:
+------------------------------------+--------------------+
|            Environment             | dpdk_meson_compile |
+====================================+====================+
| RHEL9 (ARM)                        | PASS               |
+------------------------------------+--------------------+
| Ubuntu 20.04 ARM GCC Cross Compile | PASS               |
+------------------------------------+--------------------+
| Ubuntu 20.04 ARM SVE               | PASS               |
+------------------------------------+--------------------+
| Debian 12 with MUSDK               | PASS               |
+------------------------------------+--------------------+
| Fedora 37 (ARM)                    | PASS               |
+------------------------------------+--------------------+
| Fedora 38 (ARM)                    | PASS               |
+------------------------------------+--------------------+
| Fedora 38 (ARM Clang)              | PEND               |
+------------------------------------+--------------------+
| Fedora 39 (ARM)                    | PASS               |
+------------------------------------+--------------------+
| Fedora 39 (ARM Clang)              | PEND               |
+------------------------------------+--------------------+
| Fedora 40 (ARM)                    | PEND               |
+------------------------------------+--------------------+
| Fedora 40 (ARM Clang)              | PEND               |
+------------------------------------+--------------------+
RHEL9 (ARM)
	Kernel: Depends on container host
	Compiler: gcc 11.4.1
Ubuntu 20.04 ARM GCC Cross Compile
	Kernel: 5.4.0-167-generic
	Compiler: aarch64-linux-gnu-gcc (Ubuntu 9.4.0-1ubuntu1~20.04.2) 9.4.0
Ubuntu 20.04 ARM SVE
	Kernel: 5.4.0-167-generic
	Compiler: gcc (Ubuntu 10.5.0-1ubuntu1~20.04) 10.5.0
Debian 12 with MUSDK
	Kernel: Container Host Kernel
	Compiler: gcc 12.2.0
Fedora 37 (ARM)
	Kernel: Depends on container host
	Compiler: gcc 12.3.1
Fedora 38 (ARM)
	Kernel: Depends on container host
	Compiler: gcc 13.2.1
Fedora 38 (ARM Clang)
	Kernel: Depends on container host
	Compiler: clang 16.0.6
Fedora 39 (ARM)
	Kernel: Depends on container host
	Compiler: gcc 13.2.1
Fedora 39 (ARM Clang)
	Kernel: Depends on container host
	Compiler: clang 17.0.6
Fedora 40 (ARM)
	Kernel: Depends on container host
	Compiler: gcc 14.1.1
Fedora 40 (ARM Clang)
	Kernel: Depends on container host
	Compiler: clang 18.1.6
To view detailed results, visit:
https://lab.dpdk.org/results/dashboard/patchsets/30378/
UNH-IOL DPDK Community Lab
To manage your email subscriptions, visit: 
https://lab.dpdk.org/results/dashboard/preferences/subscriptions/
    
    
More information about the test-report
mailing list