|PENDING| pw138647-138648 [PATCH] [2/2] mempool: use rte constant ma
    dpdklab at iol.unh.edu 
    dpdklab at iol.unh.edu
       
    Thu Jul  4 01:41:56 CEST 2024
    
    
  
Test-Label: iol-abi-testing
Test-Status: PENDING
http://dpdk.org/patch/138648
_Testing pending RETEST #2_
Submitter: Tyler Retzlaff <roretzla at linux.microsoft.com>
Date: Wednesday, March 20 2024 21:33:36 
DPDK git baseline: Repo:dpdk
  Branch: master
  CommitID:95bea772528d316c969a170e6206f3b05ac39413
138647-138648 --> testing pending
Test environment and result as below:
+-------------------+----------+
|    Environment    | abi_test |
+===================+==========+
| CentOS Stream 8   | PASS     |
+-------------------+----------+
| CentOS Stream 9   | PASS     |
+-------------------+----------+
| Debian Bullseye   | PASS     |
+-------------------+----------+
| Fedora 38 (Clang) | PASS     |
+-------------------+----------+
| Fedora 37         | PASS     |
+-------------------+----------+
| Debian 12         | PASS     |
+-------------------+----------+
| Fedora 38         | PASS     |
+-------------------+----------+
| Fedora 39 (Clang) | PASS     |
+-------------------+----------+
| Fedora 39         | PASS     |
+-------------------+----------+
| Fedora 40 (Clang) | PASS     |
+-------------------+----------+
| Fedora 40         | PASS     |
+-------------------+----------+
| openSUSE Leap 15  | PASS     |
+-------------------+----------+
| RHEL8             | PASS     |
+-------------------+----------+
| RHEL9             | PASS     |
+-------------------+----------+
| Ubuntu 22.04      | PEND     |
+-------------------+----------+
| Ubuntu 24.04      | PASS     |
+-------------------+----------+
CentOS Stream 8
	Kernel: 5.4.0-167-generic
	Compiler: gcc 8.5.0 20210514
CentOS Stream 9
	Kernel: 5.4.0-167-generic
	Compiler: gcc 11.4.1 20230605
Debian Bullseye
	Kernel: 5.4.0-167-generic
	Compiler: gcc 10.2.1-6
Fedora 38 (Clang)
	Kernel: Depends on container host
	Compiler: clang 16.0.6
Fedora 37
	Kernel: Depends on container host system
	Compiler: gcc 12.3.1
Debian 12
	Kernel: Container Host Kernel
	Compiler: gcc 12.2.0
Fedora 38
	Kernel: Depends on container host
	Compiler: gcc 13.2.1
Fedora 39 (Clang)
	Kernel: Depends on container host
	Compiler: clang 17.0.6
Fedora 39
	Kernel: Depends on container host
	Compiler: gcc 13.2.1
Fedora 40 (Clang)
	Kernel: Depends on container host
	Compiler: clang 18.1.6
Fedora 40
	Kernel: Depends on container host
	Compiler: gcc 14.1.1
openSUSE Leap 15
	Kernel: 5.4.0-167-generic
	Compiler: gcc 7.5.0
RHEL8
	Kernel: 5.4.0-167-generic
	Compiler: gcc 8.5.0 20210514 (Red Hat 8.5.0-20)
RHEL9
	Kernel: Depends on container host
	Compiler: gcc 11.4.1
Ubuntu 22.04
	Kernel: 5.4.0-167-generic
	Compiler: gcc 11.4.0
Ubuntu 24.04
	Kernel: 5.4.0-167-generic
	Compiler: gcc 13.2.0
To view detailed results, visit:
https://lab.dpdk.org/results/dashboard/patchsets/29615/
UNH-IOL DPDK Community Lab
To manage your email subscriptions, visit: 
https://lab.dpdk.org/results/dashboard/preferences/subscriptions/
    
    
More information about the test-report
mailing list