|PENDING| pw142107-142109 [PATCH] [v10,4/4] hash: add SVE support fo
    dpdklab at iol.unh.edu 
    dpdklab at iol.unh.edu
       
    Thu Jul  4 05:16:25 CEST 2024
    
    
  
Test-Label: iol-compile-amd64-testing
Test-Status: PENDING
http://dpdk.org/patch/142109
_Testing pending_
Submitter: Yoan Picchi <yoan.picchi at arm.com>
Date: Wednesday, July 03 2024 17:13:15 
DPDK git baseline: Repo:dpdk
  Branch: master
  CommitID:95bea772528d316c969a170e6206f3b05ac39413
142107-142109 --> testing pending
Test environment and result as below:
+---------------------+--------------------+------------------+-------------------+-------------------+----------------------+
|     Environment     | dpdk_meson_compile | dpdk_compile_ovs | dpdk_compile_spdk | dpdk_msvc_compile | dpdk_mingw64_compile |
+=====================+====================+==================+===================+===================+======================+
| CentOS Stream 8     | PEND               | PEND             | PEND              | SKIPPED           | SKIPPED              |
+---------------------+--------------------+------------------+-------------------+-------------------+----------------------+
| CentOS Stream 9     | PEND               | PEND             | PEND              | SKIPPED           | SKIPPED              |
+---------------------+--------------------+------------------+-------------------+-------------------+----------------------+
| Debian Bullseye     | PEND               | PEND             | PEND              | SKIPPED           | SKIPPED              |
+---------------------+--------------------+------------------+-------------------+-------------------+----------------------+
| Debian 12           | PEND               | PEND             | PEND              | SKIPPED           | SKIPPED              |
+---------------------+--------------------+------------------+-------------------+-------------------+----------------------+
| Fedora 37           | PEND               | PEND             | PEND              | SKIPPED           | SKIPPED              |
+---------------------+--------------------+------------------+-------------------+-------------------+----------------------+
| Fedora 39 (Clang)   | PEND               | PEND             | PEND              | SKIPPED           | SKIPPED              |
+---------------------+--------------------+------------------+-------------------+-------------------+----------------------+
| Fedora 39           | PEND               | PEND             | PEND              | SKIPPED           | SKIPPED              |
+---------------------+--------------------+------------------+-------------------+-------------------+----------------------+
| Fedora 38           | PEND               | PEND             | PEND              | SKIPPED           | SKIPPED              |
+---------------------+--------------------+------------------+-------------------+-------------------+----------------------+
| Fedora 40 (Clang)   | PEND               | PEND             | PEND              | SKIPPED           | SKIPPED              |
+---------------------+--------------------+------------------+-------------------+-------------------+----------------------+
| Fedora 40           | PEND               | PEND             | PEND              | SKIPPED           | SKIPPED              |
+---------------------+--------------------+------------------+-------------------+-------------------+----------------------+
| RHEL8               | PEND               | PEND             | SKIPPED           | SKIPPED           | SKIPPED              |
+---------------------+--------------------+------------------+-------------------+-------------------+----------------------+
| openSUSE Leap 15    | PEND               | PEND             | SKIPPED           | SKIPPED           | SKIPPED              |
+---------------------+--------------------+------------------+-------------------+-------------------+----------------------+
| RHEL9               | PEND               | PEND             | SKIPPED           | SKIPPED           | SKIPPED              |
+---------------------+--------------------+------------------+-------------------+-------------------+----------------------+
| Ubuntu 20.04        | PEND               | PEND             | SKIPPED           | SKIPPED           | SKIPPED              |
+---------------------+--------------------+------------------+-------------------+-------------------+----------------------+
| Ubuntu 22.04        | PEND               | PEND             | PEND              | SKIPPED           | SKIPPED              |
+---------------------+--------------------+------------------+-------------------+-------------------+----------------------+
| Ubuntu 24.04        | PEND               | PEND             | PEND              | SKIPPED           | SKIPPED              |
+---------------------+--------------------+------------------+-------------------+-------------------+----------------------+
| Windows Server 2019 | PASS               | SKIPPED          | SKIPPED           | SKIPPED           | PASS                 |
+---------------------+--------------------+------------------+-------------------+-------------------+----------------------+
| Windows Server 2022 | PASS               | SKIPPED          | SKIPPED           | PASS              | SKIPPED              |
+---------------------+--------------------+------------------+-------------------+-------------------+----------------------+
| Alpine              | PEND               | PEND             | SKIPPED           | SKIPPED           | SKIPPED              |
+---------------------+--------------------+------------------+-------------------+-------------------+----------------------+
| FreeBSD 13.3        | PASS               | SKIPPED          | SKIPPED           | SKIPPED           | SKIPPED              |
+---------------------+--------------------+------------------+-------------------+-------------------+----------------------+
| FreeBSD 14.1        | PASS               | SKIPPED          | SKIPPED           | SKIPPED           | SKIPPED              |
+---------------------+--------------------+------------------+-------------------+-------------------+----------------------+
CentOS Stream 8
	Kernel: 5.4.0-167-generic
	Compiler: gcc 8.5.0 20210514
CentOS Stream 9
	Kernel: 5.4.0-167-generic
	Compiler: gcc 11.4.1 20230605
Debian Bullseye
	Kernel: 5.4.0-167-generic
	Compiler: gcc 10.2.1-6
Debian 12
	Kernel: Container Host Kernel
	Compiler: gcc 12.2.0
Fedora 37
	Kernel: Depends on container host system
	Compiler: gcc 12.3.1
Fedora 39 (Clang)
	Kernel: Depends on container host
	Compiler: clang 17.0.6
Fedora 39
	Kernel: Depends on container host
	Compiler: gcc 13.2.1
Fedora 38
	Kernel: Depends on container host
	Compiler: gcc 13.2.1
Fedora 40 (Clang)
	Kernel: Depends on container host
	Compiler: clang 18.1.6
Fedora 40
	Kernel: Depends on container host
	Compiler: gcc 14.1.1
RHEL8
	Kernel: 5.4.0-167-generic
	Compiler: gcc 8.5.0 20210514 (Red Hat 8.5.0-20)
openSUSE Leap 15
	Kernel: 5.4.0-167-generic
	Compiler: gcc 7.5.0
RHEL9
	Kernel: Depends on container host
	Compiler: gcc 11.4.1
Ubuntu 20.04
	Kernel: 5.4.0-167-generic
	Compiler: gcc 9.4.0-1ubuntu1~20.04.1
Ubuntu 22.04
	Kernel: 5.4.0-167-generic
	Compiler: gcc 11.4.0
Ubuntu 24.04
	Kernel: 5.4.0-167-generic
	Compiler: gcc 13.2.0
Windows Server 2019
	Kernel: 10.0.17763
	Compiler: clang 14.0 and gcc 8.1.0 (MinGW)
Windows Server 2022
	Kernel: 10.0.20348.2031
	Compiler: clang 15.0.7, gcc 8.1.0 (MinGW), and MSVC VS 17.9
Alpine
	Kernel: 5.4.0-167-generic
	Compiler: gcc (Alpine 13.2.1_git20231014) 13.2.1 20231014
FreeBSD 13.3
	Kernel: 13.3-RELEASE-p1
	Compiler: clang 17.0.6
FreeBSD 14.1
	Kernel: 14.1
	Compiler: clang 18.1.5
To view detailed results, visit:
https://lab.dpdk.org/results/dashboard/patchsets/30410/
UNH-IOL DPDK Community Lab
To manage your email subscriptions, visit: 
https://lab.dpdk.org/results/dashboard/preferences/subscriptions/
    
    
More information about the test-report
mailing list