|PENDING| pw142122 [PATCH] [v3] vfio: combine container_create and g
    dpdklab at iol.unh.edu 
    dpdklab at iol.unh.edu
       
    Fri Jul  5 19:56:16 CEST 2024
    
    
  
Test-Label: iol-unit-arm64-testing
Test-Status: PENDING
http://dpdk.org/patch/142122
_Testing pending_
Submitter: BillXiang <xiangwencheng at dayudpu.com>
Date: Wednesday, July 03 2024 11:59:43 
DPDK git baseline: Repo:dpdk
  Branch: master
  CommitID:95bea772528d316c969a170e6206f3b05ac39413
142122 --> testing pending
Test environment and result as below:
+-----------------------------+--------------+----------------+------------------------------+---------------------------+
|         Environment         | lpm_autotest | dpdk_unit_test | cryptodev_sw_snow3g_autotest | cryptodev_sw_zuc_autotest |
+=============================+==============+================+==============================+===========================+
| Ubuntu 20.04 ARM SVE        | PASS         | SKIPPED        | SKIPPED                      | SKIPPED                   |
+-----------------------------+--------------+----------------+------------------------------+---------------------------+
| 32-bit Ubuntu 20.04.4 (ARM) | SKIPPED      | PASS           | SKIPPED                      | SKIPPED                   |
+-----------------------------+--------------+----------------+------------------------------+---------------------------+
| CentOS Stream 9 (ARM)       | SKIPPED      | PASS           | SKIPPED                      | SKIPPED                   |
+-----------------------------+--------------+----------------+------------------------------+---------------------------+
| Debian 12 (arm)             | SKIPPED      | PASS           | PASS                         | PASS                      |
+-----------------------------+--------------+----------------+------------------------------+---------------------------+
| Debian 11 (Buster) (ARM)    | SKIPPED      | PASS           | SKIPPED                      | SKIPPED                   |
+-----------------------------+--------------+----------------+------------------------------+---------------------------+
| Fedora 38 (ARM)             | SKIPPED      | PASS           | SKIPPED                      | SKIPPED                   |
+-----------------------------+--------------+----------------+------------------------------+---------------------------+
| Fedora 38 (ARM Clang)       | SKIPPED      | PASS           | SKIPPED                      | SKIPPED                   |
+-----------------------------+--------------+----------------+------------------------------+---------------------------+
| Fedora 39 (ARM)             | SKIPPED      | PASS           | SKIPPED                      | SKIPPED                   |
+-----------------------------+--------------+----------------+------------------------------+---------------------------+
| Fedora 40 (ARM)             | SKIPPED      | PASS           | SKIPPED                      | SKIPPED                   |
+-----------------------------+--------------+----------------+------------------------------+---------------------------+
| Fedora 39 (ARM Clang)       | SKIPPED      | PASS           | SKIPPED                      | SKIPPED                   |
+-----------------------------+--------------+----------------+------------------------------+---------------------------+
| RHEL9 (ARM)                 | SKIPPED      | PASS           | SKIPPED                      | SKIPPED                   |
+-----------------------------+--------------+----------------+------------------------------+---------------------------+
| Ubuntu 22.04 (ARM)          | SKIPPED      | PASS           | SKIPPED                      | SKIPPED                   |
+-----------------------------+--------------+----------------+------------------------------+---------------------------+
| Fedora 40 (ARM Clang)       | SKIPPED      | PASS           | SKIPPED                      | SKIPPED                   |
+-----------------------------+--------------+----------------+------------------------------+---------------------------+
| Ubuntu 20.04 (ARM)          | SKIPPED      | PASS           | SKIPPED                      | SKIPPED                   |
+-----------------------------+--------------+----------------+------------------------------+---------------------------+
| Ubuntu 24.04 (ARM)          | SKIPPED      | PASS           | SKIPPED                      | SKIPPED                   |
+-----------------------------+--------------+----------------+------------------------------+---------------------------+
| Fedora 37 (ARM)             | SKIPPED      | PEND           | SKIPPED                      | SKIPPED                   |
+-----------------------------+--------------+----------------+------------------------------+---------------------------+
Ubuntu 20.04 ARM SVE
	Kernel: 5.4.0-167-generic
	Compiler: gcc (Ubuntu 10.5.0-1ubuntu1~20.04) 10.5.0
32-bit Ubuntu 20.04.4 (ARM)
	Kernel: 5.4.0-155-generic aarch64
	Compiler: gcc 9.4
CentOS Stream 9 (ARM)
	Kernel: Container Host Kernel
	Compiler: gcc 11.4.1
Debian 12 (arm)
	Kernel: Container Host Kernel
	Compiler: gcc 12.2.0
Debian 11 (Buster) (ARM)
	Kernel: Container Host Kernel
	Compiler: gcc 10.2.1
Fedora 38 (ARM)
	Kernel: Depends on container host
	Compiler: gcc 13.2.1
Fedora 38 (ARM Clang)
	Kernel: Depends on container host
	Compiler: clang 16.0.6
Fedora 39 (ARM)
	Kernel: Depends on container host
	Compiler: gcc 13.2.1
Fedora 40 (ARM)
	Kernel: Depends on container host
	Compiler: gcc 14.1.1
Fedora 39 (ARM Clang)
	Kernel: Depends on container host
	Compiler: clang 17.0.6
RHEL9 (ARM)
	Kernel: Depends on container host
	Compiler: gcc 11.4.1
Ubuntu 22.04 (ARM)
	Kernel: Container Host Kernel
	Compiler: gcc 11.4.0
Fedora 40 (ARM Clang)
	Kernel: Depends on container host
	Compiler: clang 18.1.6
Ubuntu 20.04 (ARM)
	Kernel: Container Host Kernel
	Compiler: gcc 9.4.0
Ubuntu 24.04 (ARM)
	Kernel: 5.4.0-167-generic
	Compiler: gcc 13.2.0
Fedora 37 (ARM)
	Kernel: Depends on container host
	Compiler: gcc 12.3.1
To view detailed results, visit:
https://lab.dpdk.org/results/dashboard/patchsets/30418/
UNH-IOL DPDK Community Lab
To manage your email subscriptions, visit: 
https://lab.dpdk.org/results/dashboard/preferences/subscriptions/
    
    
More information about the test-report
mailing list