|PENDING| pw142156-142162 [PATCH] [v11,7/7] hash: add SVE support fo
    dpdklab at iol.unh.edu 
    dpdklab at iol.unh.edu
       
    Sun Jul  7 13:20:38 CEST 2024
    
    
  
Test-Label: iol-compile-amd64-testing
Test-Status: PENDING
http://dpdk.org/patch/142162
_Testing pending_
Submitter: Yoan Picchi <yoan.picchi at arm.com>
Date: Friday, July 05 2024 17:45:26 
DPDK git baseline: Repo:dpdk
  Branch: master
  CommitID:fcfb19cda4f6439f260cdeabb6c44d3c6f0d5fc4
142156-142162 --> testing pending
Test environment and result as below:
+---------------------+--------------------+----------------------+-------------------+
|     Environment     | dpdk_meson_compile | dpdk_mingw64_compile | dpdk_msvc_compile |
+=====================+====================+======================+===================+
| Windows Server 2019 | PASS               | PEND                 | SKIPPED           |
+---------------------+--------------------+----------------------+-------------------+
| FreeBSD 13.3        | PASS               | SKIPPED              | SKIPPED           |
+---------------------+--------------------+----------------------+-------------------+
| FreeBSD 14.1        | PASS               | SKIPPED              | SKIPPED           |
+---------------------+--------------------+----------------------+-------------------+
| Windows Server 2022 | PEND               | PASS                 | PASS              |
+---------------------+--------------------+----------------------+-------------------+
Windows Server 2019
	Kernel: 10.0.17763
	Compiler: clang 14.0 and gcc 8.1.0 (MinGW)
FreeBSD 13.3
	Kernel: 13.3-RELEASE-p1
	Compiler: clang 17.0.6
FreeBSD 14.1
	Kernel: 14.1
	Compiler: clang 18.1.5
Windows Server 2022
	Kernel: 10.0.20348.2031
	Compiler: clang 15.0.7, gcc 8.1.0 (MinGW), and MSVC VS 17.9
To view detailed results, visit:
https://lab.dpdk.org/results/dashboard/patchsets/30439/
UNH-IOL DPDK Community Lab
To manage your email subscriptions, visit: 
https://lab.dpdk.org/results/dashboard/preferences/subscriptions/
    
    
More information about the test-report
mailing list