|PENDING| pw142238 [PATCH] [v4] ethdev: Add link_speed lanes support

dpdklab at iol.unh.edu dpdklab at iol.unh.edu
Tue Jul 9 07:28:50 CEST 2024


Test-Label: iol-compile-amd64-testing
Test-Status: PENDING
http://dpdk.org/patch/142238

_Testing pending_

Submitter: Damodharam Ammepalli <damodharam.ammepalli at broadcom.com>
Date: Monday, July 08 2024 23:22:52 
DPDK git baseline: Repo:dpdk
  Branch: master
  CommitID:b0fd604534d435cad3ac75fe4fb96b0841084af3

142238 --> testing pending

Test environment and result as below:

+---------------------+--------------------+----------------------+
|     Environment     | dpdk_meson_compile | dpdk_mingw64_compile |
+=====================+====================+======================+
| Windows Server 2022 | PASS               | PEND                 |
+---------------------+--------------------+----------------------+
| Windows Server 2019 | PASS               | PEND                 |
+---------------------+--------------------+----------------------+
| FreeBSD 13.3        | PASS               | SKIPPED              |
+---------------------+--------------------+----------------------+
| FreeBSD 14.1        | PEND               | SKIPPED              |
+---------------------+--------------------+----------------------+


Windows Server 2022
	Kernel: 10.0.20348.2031
	Compiler: clang 15.0.7, gcc 8.1.0 (MinGW), and MSVC VS 17.9

Windows Server 2019
	Kernel: 10.0.17763
	Compiler: clang 14.0 and gcc 8.1.0 (MinGW)

FreeBSD 13.3
	Kernel: 13.3-RELEASE-p1
	Compiler: clang 17.0.6

FreeBSD 14.1
	Kernel: 14.1
	Compiler: clang 18.1.5

To view detailed results, visit:
https://lab.dpdk.org/results/dashboard/patchsets/30469/

UNH-IOL DPDK Community Lab

To manage your email subscriptions, visit: 
https://lab.dpdk.org/results/dashboard/preferences/subscriptions/


More information about the test-report mailing list