|PENDING| pw142363 [PATCH] [v3] net/virtio_user: fix cq descriptor c

dpdklab at iol.unh.edu dpdklab at iol.unh.edu
Fri Jul 12 18:34:59 CEST 2024


Test-Label: iol-compile-amd64-testing
Test-Status: PENDING
http://dpdk.org/patch/142363

_Testing pending_

Submitter: Srujana Challa <schalla at marvell.com>
Date: Friday, July 12 2024 12:36:12 
DPDK git baseline: Repo:dpdk
  Branch: master
  CommitID:9cbdb606e5d04de04be3d9f70f0e76551e8c9a36

142363 --> testing pending

Test environment and result as below:

+---------------------+----------------------+--------------------+-------------------+
|     Environment     | dpdk_mingw64_compile | dpdk_meson_compile | dpdk_msvc_compile |
+=====================+======================+====================+===================+
| Windows Server 2019 | PASS                 | PEND               | SKIPPED           |
+---------------------+----------------------+--------------------+-------------------+
| Windows Server 2022 | PEND                 | PASS               | PASS              |
+---------------------+----------------------+--------------------+-------------------+
| FreeBSD 13.3        | SKIPPED              | PASS               | SKIPPED           |
+---------------------+----------------------+--------------------+-------------------+
| FreeBSD 14.1        | SKIPPED              | PEND               | SKIPPED           |
+---------------------+----------------------+--------------------+-------------------+


Windows Server 2019
	Kernel: 10.0.17763
	Compiler: clang 14.0 and gcc 8.1.0 (MinGW)

Windows Server 2022
	Kernel: 10.0.20348.2031
	Compiler: clang 15.0.7, gcc 8.1.0 (MinGW), and MSVC VS 17.9

FreeBSD 13.3
	Kernel: 13.3-RELEASE-p1
	Compiler: clang 17.0.6

FreeBSD 14.1
	Kernel: 14.1
	Compiler: clang 18.1.5

To view detailed results, visit:
https://lab.dpdk.org/results/dashboard/patchsets/30506/

UNH-IOL DPDK Community Lab

To manage your email subscriptions, visit: 
https://lab.dpdk.org/results/dashboard/preferences/subscriptions/


More information about the test-report mailing list