|SUCCESS| pw142424-142423 [PATCH] [v2,2/2] net/ngbe: disable LLDP by
    dpdklab at iol.unh.edu 
    dpdklab at iol.unh.edu
       
    Wed Jul 17 01:12:13 CEST 2024
    
    
  
Test-Label: iol-sample-apps-testing
Test-Status: SUCCESS
http://dpdk.org/patch/142423
_Testing PASS_
Submitter: Jiawen Wu <jiawenwu at trustnetic.com>
Date: Tuesday, July 16 2024 08:16:53 
DPDK git baseline: Repo:dpdk
  Branch: master
  CommitID:fa8d2f7f28524a6c8defa3dcd94f5aa131aae084
142424-142423 --> testing pass
Test environment and result as below:
+--------------------+----------------------+----------------------+
|    Environment     | compressdev_zlib_pmd | dpdk_fips_validation |
+====================+======================+======================+
| Ubuntu 22.04 (ARM) | PASS                 | SKIPPED              |
+--------------------+----------------------+----------------------+
| Ubuntu 22.04       | PASS                 | SKIPPED              |
+--------------------+----------------------+----------------------+
| Ubuntu 20.04       | SKIPPED              | PASS                 |
+--------------------+----------------------+----------------------+
Ubuntu 22.04 (ARM)
	Kernel: 5.15.0-97-generic
	Compiler: gcc gcc (Ubuntu 11.4.0-1ubuntu1~22.04) 11.4.0
Ubuntu 22.04
	Kernel: 5.15.0-100-generic
	Compiler: gcc gcc (Ubuntu 11.4.0-1ubuntu1~22.04) 11.4.0
Ubuntu 20.04
	Kernel: 5.4.0-167-generic
	Compiler: gcc 9.4.0-1ubuntu1~20.04.1
To view detailed results, visit:
https://lab.dpdk.org/results/dashboard/patchsets/30527/
UNH-IOL DPDK Community Lab
To manage your email subscriptions, visit: 
https://lab.dpdk.org/results/dashboard/preferences/subscriptions/
    
    
More information about the test-report
mailing list