|PENDING| pw142457 [PATCH] doc: document mlx5 HWS actions order
    dpdklab at iol.unh.edu 
    dpdklab at iol.unh.edu
       
    Wed Jul 17 15:30:00 CEST 2024
    
    
  
Test-Label: iol-unit-arm64-testing
Test-Status: PENDING
http://dpdk.org/patch/142457
_Testing pending_
Submitter: Maayan Kashani <mkashani at nvidia.com>
Date: Wednesday, July 17 2024 12:36:09 
DPDK git baseline: Repo:dpdk
  Branch: master
  CommitID:fa8d2f7f28524a6c8defa3dcd94f5aa131aae084
142457 --> testing pending
Test environment and result as below:
+--------------------------+----------------+
|       Environment        | dpdk_unit_test |
+==========================+================+
| Debian 11 (Buster) (ARM) | PASS           |
+--------------------------+----------------+
| Debian 12 (arm)          | PASS           |
+--------------------------+----------------+
| CentOS Stream 9 (ARM)    | PASS           |
+--------------------------+----------------+
| Fedora 37 (ARM)          | PASS           |
+--------------------------+----------------+
| Fedora 38 (ARM)          | PASS           |
+--------------------------+----------------+
| Fedora 40 (ARM Clang)    | PEND           |
+--------------------------+----------------+
| Fedora 40 (ARM)          | PEND           |
+--------------------------+----------------+
| Fedora 39 (ARM Clang)    | PEND           |
+--------------------------+----------------+
| Fedora 38 (ARM Clang)    | PEND           |
+--------------------------+----------------+
| RHEL9 (ARM)              | PEND           |
+--------------------------+----------------+
| Ubuntu 20.04 (ARM)       | PEND           |
+--------------------------+----------------+
| Ubuntu 24.04 (ARM)       | PEND           |
+--------------------------+----------------+
| Ubuntu 22.04 (ARM)       | PEND           |
+--------------------------+----------------+
Debian 11 (Buster) (ARM)
	Kernel: Container Host Kernel
	Compiler: gcc 10.2.1
Debian 12 (arm)
	Kernel: Container Host Kernel
	Compiler: gcc 12.2.0
CentOS Stream 9 (ARM)
	Kernel: Container Host Kernel
	Compiler: gcc 11.4.1
Fedora 37 (ARM)
	Kernel: Depends on container host
	Compiler: gcc 12.3.1
Fedora 38 (ARM)
	Kernel: Depends on container host
	Compiler: gcc 13.2.1
Fedora 40 (ARM Clang)
	Kernel: Depends on container host
	Compiler: clang 18.1.6
Fedora 40 (ARM)
	Kernel: Depends on container host
	Compiler: gcc 14.1.1
Fedora 39 (ARM Clang)
	Kernel: Depends on container host
	Compiler: clang 17.0.6
Fedora 38 (ARM Clang)
	Kernel: Depends on container host
	Compiler: clang 16.0.6
RHEL9 (ARM)
	Kernel: Depends on container host
	Compiler: gcc 11.4.1
Ubuntu 20.04 (ARM)
	Kernel: Container Host Kernel
	Compiler: gcc 9.4.0
Ubuntu 24.04 (ARM)
	Kernel: 5.4.0-167-generic
	Compiler: gcc 13.2.0
Ubuntu 22.04 (ARM)
	Kernel: Container Host Kernel
	Compiler: gcc 11.4.0
To view detailed results, visit:
https://lab.dpdk.org/results/dashboard/patchsets/30537/
UNH-IOL DPDK Community Lab
To manage your email subscriptions, visit: 
https://lab.dpdk.org/results/dashboard/preferences/subscriptions/
    
    
More information about the test-report
mailing list