|PENDING| pw142713 [PATCH] eal/linux: clear asan after allocation an
dpdklab at iol.unh.edu
dpdklab at iol.unh.edu
Thu Jul 25 15:08:24 CEST 2024
Test-Label: iol-compile-amd64-testing
Test-Status: PENDING
http://dpdk.org/patch/142713
_Testing pending_
Submitter: Alex Michon <amichon at kalrayinc.com>
Date: Tuesday, July 23 2024 08:34:19
DPDK git baseline: Repo:dpdk
Branch: master
CommitID:82c47f005b9a0a1e3a649664b7713443d18abe43
142713 --> testing pending
Upstream job id: Windows-Compile-DPDK-Meson#23849
Test environment and result as below:
+---------------------+--------------------+----------------------+
| Environment | dpdk_meson_compile | dpdk_mingw64_compile |
+=====================+====================+======================+
| FreeBSD 13.3 | PASS | SKIPPED |
+---------------------+--------------------+----------------------+
| FreeBSD 14.1 | PASS | SKIPPED |
+---------------------+--------------------+----------------------+
| Windows Server 2022 | PASS | PEND |
+---------------------+--------------------+----------------------+
FreeBSD 13.3
Kernel: 13.3-RELEASE-p1
Compiler: clang 17.0.6
FreeBSD 14.1
Kernel: 14.1
Compiler: clang 18.1.5
Windows Server 2022
Kernel: 10.0.20348.2031
Compiler: clang 15.0.7, gcc 8.1.0 (MinGW), and MSVC VS 17.9
To view detailed results, visit:
https://lab.dpdk.org/results/dashboard/patchsets/30617/
UNH-IOL DPDK Community Lab
To manage your email subscriptions, visit:
https://lab.dpdk.org/results/dashboard/preferences/subscriptions/
More information about the test-report
mailing list