|PENDING| [GIT MASTER] 49b2102bf9fea000d36860353016a5c6ddf993a9
    dpdklab at iol.unh.edu 
    dpdklab at iol.unh.edu
       
    Sat Jul 27 08:15:57 CEST 2024
    
    
  
_Testing pending_
Branch: tags/v21.11
49b2102bf9fea000d36860353016a5c6ddf993a9 --> testing pending
Upstream job id: Generic-DPDK-Compile-Meson#280636
Test environment and result as below:
+------------------------------------+--------------------+
|            Environment             | dpdk_meson_compile |
+====================================+====================+
| RHEL9 (ARM)                        | PASS               |
+------------------------------------+--------------------+
| Ubuntu 20.04 ARM GCC Cross Compile | PEND               |
+------------------------------------+--------------------+
| Ubuntu 20.04 ARM SVE               | PASS               |
+------------------------------------+--------------------+
| Debian 12 with MUSDK               | PEND               |
+------------------------------------+--------------------+
| Fedora 37 (ARM)                    | PASS               |
+------------------------------------+--------------------+
| Fedora 38 (ARM)                    | PASS               |
+------------------------------------+--------------------+
| Fedora 38 (ARM Clang)              | PEND               |
+------------------------------------+--------------------+
| Fedora 39 (ARM)                    | PASS               |
+------------------------------------+--------------------+
| Fedora 39 (ARM Clang)              | PEND               |
+------------------------------------+--------------------+
| Fedora 40 (ARM)                    | PASS               |
+------------------------------------+--------------------+
| Fedora 40 (ARM Clang)              | PEND               |
+------------------------------------+--------------------+
| Ubuntu 20.04 (ARM)                 | PEND               |
+------------------------------------+--------------------+
| Ubuntu 22.04 (ARM)                 | PEND               |
+------------------------------------+--------------------+
| Ubuntu 24.04 (ARM)                 | PEND               |
+------------------------------------+--------------------+
| CentOS Stream 9 (ARM)              | PEND               |
+------------------------------------+--------------------+
| Debian 11 (Buster) (ARM)           | PEND               |
+------------------------------------+--------------------+
| Debian 12 (arm)                    | PEND               |
+------------------------------------+--------------------+
RHEL9 (ARM)
	Kernel: Depends on container host
	Compiler: gcc 11.4.1
Ubuntu 20.04 ARM GCC Cross Compile
	Kernel: 5.4.0-167-generic
	Compiler: aarch64-linux-gnu-gcc (Ubuntu 9.4.0-1ubuntu1~20.04.2) 9.4.0
Ubuntu 20.04 ARM SVE
	Kernel: 5.4.0-167-generic
	Compiler: gcc (Ubuntu 10.5.0-1ubuntu1~20.04) 10.5.0
Debian 12 with MUSDK
	Kernel: Container Host Kernel
	Compiler: gcc 12.2.0
Fedora 37 (ARM)
	Kernel: Depends on container host
	Compiler: gcc 12.3.1
Fedora 38 (ARM)
	Kernel: Depends on container host
	Compiler: gcc 13.2.1
Fedora 38 (ARM Clang)
	Kernel: Depends on container host
	Compiler: clang 16.0.6
Fedora 39 (ARM)
	Kernel: Depends on container host
	Compiler: gcc 13.2.1
Fedora 39 (ARM Clang)
	Kernel: Depends on container host
	Compiler: clang 17.0.6
Fedora 40 (ARM)
	Kernel: Depends on container host
	Compiler: gcc 14.1.1
Fedora 40 (ARM Clang)
	Kernel: Depends on container host
	Compiler: clang 18.1.6
Ubuntu 20.04 (ARM)
	Kernel: Container Host Kernel
	Compiler: gcc 9.4.0
Ubuntu 22.04 (ARM)
	Kernel: Container Host Kernel
	Compiler: gcc 11.4.0
Ubuntu 24.04 (ARM)
	Kernel: 5.4.0-167-generic
	Compiler: gcc 13.2.0
CentOS Stream 9 (ARM)
	Kernel: Container Host Kernel
	Compiler: gcc 11.4.1
Debian 11 (Buster) (ARM)
	Kernel: Container Host Kernel
	Compiler: gcc 10.2.1
Debian 12 (arm)
	Kernel: Container Host Kernel
	Compiler: gcc 12.2.0
To view detailed results, visit:
https://lab.dpdk.org/results/dashboard/tarballs/30027/
UNH-IOL DPDK Community Lab
To manage your email subscriptions, visit: 
https://lab.dpdk.org/results/dashboard/preferences/subscriptions/
    
    
More information about the test-report
mailing list