|PENDING| pw142748 [PATCH] net/mlx5/hws: fix the valid bit of E-Swit

dpdklab at iol.unh.edu dpdklab at iol.unh.edu
Mon Jul 29 17:16:37 CEST 2024


Test-Label: iol-unit-arm64-testing
Test-Status: PENDING
http://dpdk.org/patch/142748

_Testing pending_

Submitter: Bing Zhao <bingz at nvidia.com>
Date: Monday, July 29 2024 14:06:55 
DPDK git baseline: Repo:dpdk
  Branch: master
  CommitID:82c47f005b9a0a1e3a649664b7713443d18abe43

142748 --> testing pending

Upstream job id: Generic-Unit-Test-DPDK#245779

Test environment and result as below:

+-----------------------------+----------------+------------------------------+---------------------------+--------------+
|         Environment         | dpdk_unit_test | cryptodev_sw_snow3g_autotest | cryptodev_sw_zuc_autotest | lpm_autotest |
+=============================+================+==============================+===========================+==============+
| CentOS Stream 9 (ARM)       | PASS           | SKIPPED                      | SKIPPED                   | SKIPPED      |
+-----------------------------+----------------+------------------------------+---------------------------+--------------+
| Debian 11 (Buster) (ARM)    | PASS           | SKIPPED                      | SKIPPED                   | SKIPPED      |
+-----------------------------+----------------+------------------------------+---------------------------+--------------+
| Debian 12 (arm)             | PASS           | PEND                         | PEND                      | SKIPPED      |
+-----------------------------+----------------+------------------------------+---------------------------+--------------+
| Fedora 37 (ARM)             | PASS           | SKIPPED                      | SKIPPED                   | SKIPPED      |
+-----------------------------+----------------+------------------------------+---------------------------+--------------+
| Fedora 38 (ARM)             | PASS           | SKIPPED                      | SKIPPED                   | SKIPPED      |
+-----------------------------+----------------+------------------------------+---------------------------+--------------+
| Fedora 39 (ARM)             | PASS           | SKIPPED                      | SKIPPED                   | SKIPPED      |
+-----------------------------+----------------+------------------------------+---------------------------+--------------+
| Fedora 39 (ARM Clang)       | PASS           | SKIPPED                      | SKIPPED                   | SKIPPED      |
+-----------------------------+----------------+------------------------------+---------------------------+--------------+
| Fedora 38 (ARM Clang)       | PEND           | SKIPPED                      | SKIPPED                   | SKIPPED      |
+-----------------------------+----------------+------------------------------+---------------------------+--------------+
| Fedora 40 (ARM Clang)       | PASS           | SKIPPED                      | SKIPPED                   | SKIPPED      |
+-----------------------------+----------------+------------------------------+---------------------------+--------------+
| Fedora 40 (ARM)             | PASS           | SKIPPED                      | SKIPPED                   | SKIPPED      |
+-----------------------------+----------------+------------------------------+---------------------------+--------------+
| RHEL9 (ARM)                 | PASS           | SKIPPED                      | SKIPPED                   | SKIPPED      |
+-----------------------------+----------------+------------------------------+---------------------------+--------------+
| Ubuntu 20.04 (ARM)          | PASS           | SKIPPED                      | SKIPPED                   | SKIPPED      |
+-----------------------------+----------------+------------------------------+---------------------------+--------------+
| Ubuntu 22.04 (ARM)          | PEND           | SKIPPED                      | SKIPPED                   | SKIPPED      |
+-----------------------------+----------------+------------------------------+---------------------------+--------------+
| Ubuntu 24.04 (ARM)          | PEND           | SKIPPED                      | SKIPPED                   | SKIPPED      |
+-----------------------------+----------------+------------------------------+---------------------------+--------------+
| 32-bit Ubuntu 20.04.4 (ARM) | PEND           | SKIPPED                      | SKIPPED                   | SKIPPED      |
+-----------------------------+----------------+------------------------------+---------------------------+--------------+
| Ubuntu 20.04 ARM SVE        | SKIPPED        | SKIPPED                      | SKIPPED                   | PEND         |
+-----------------------------+----------------+------------------------------+---------------------------+--------------+


CentOS Stream 9 (ARM)
	Kernel: Container Host Kernel
	Compiler: gcc 11.4.1

Debian 11 (Buster) (ARM)
	Kernel: Container Host Kernel
	Compiler: gcc 10.2.1

Debian 12 (arm)
	Kernel: Container Host Kernel
	Compiler: gcc 12.2.0

Fedora 37 (ARM)
	Kernel: Depends on container host
	Compiler: gcc 12.3.1

Fedora 38 (ARM)
	Kernel: Depends on container host
	Compiler: gcc 13.2.1

Fedora 39 (ARM)
	Kernel: Depends on container host
	Compiler: gcc 13.2.1

Fedora 39 (ARM Clang)
	Kernel: Depends on container host
	Compiler: clang 17.0.6

Fedora 38 (ARM Clang)
	Kernel: Depends on container host
	Compiler: clang 16.0.6

Fedora 40 (ARM Clang)
	Kernel: Depends on container host
	Compiler: clang 18.1.6

Fedora 40 (ARM)
	Kernel: Depends on container host
	Compiler: gcc 14.1.1

RHEL9 (ARM)
	Kernel: Depends on container host
	Compiler: gcc 11.4.1

Ubuntu 20.04 (ARM)
	Kernel: Container Host Kernel
	Compiler: gcc 9.4.0

Ubuntu 22.04 (ARM)
	Kernel: Container Host Kernel
	Compiler: gcc 11.4.0

Ubuntu 24.04 (ARM)
	Kernel: 5.4.0-167-generic
	Compiler: gcc 13.2.0

32-bit Ubuntu 20.04.4 (ARM)
	Kernel: 5.4.0-155-generic aarch64
	Compiler: gcc 9.4

Ubuntu 20.04 ARM SVE
	Kernel: 5.4.0-167-generic
	Compiler: gcc (Ubuntu 10.5.0-1ubuntu1~20.04) 10.5.0

To view detailed results, visit:
https://lab.dpdk.org/results/dashboard/patchsets/30644/

UNH-IOL DPDK Community Lab

To manage your email subscriptions, visit: 
https://lab.dpdk.org/results/dashboard/preferences/subscriptions/


More information about the test-report mailing list