|PENDING| pw142785 [PATCH] doc: add tested platforms with NVIDIA NIC
    dpdklab at iol.unh.edu 
    dpdklab at iol.unh.edu
       
    Wed Jul 31 20:53:21 CEST 2024
    
    
  
Test-Label: iol-abi-testing
Test-Status: PENDING
http://dpdk.org/patch/142785
_Testing pending_
Submitter: Raslan Darawsheh <rasland at nvidia.com>
Date: Wednesday, July 31 2024 11:15:03 
DPDK git baseline: Repo:dpdk
  Branch: master
  CommitID:1d245ca8239d947258b3ae7cc4d8df97ef527852
142785 --> testing pending
Upstream job id: Generic-DPDK-Compile-ABI#101227
Test environment and result as below:
+-------------------+----------+
|    Environment    | abi_test |
+===================+==========+
| Debian Bullseye   | PASS     |
+-------------------+----------+
| CentOS Stream 9   | PASS     |
+-------------------+----------+
| CentOS Stream 8   | PASS     |
+-------------------+----------+
| Fedora 37         | PASS     |
+-------------------+----------+
| Debian 12         | PASS     |
+-------------------+----------+
| RHEL8             | PASS     |
+-------------------+----------+
| RHEL9             | PASS     |
+-------------------+----------+
| Fedora 38 (Clang) | PASS     |
+-------------------+----------+
| Fedora 40 (Clang) | PASS     |
+-------------------+----------+
| Fedora 38         | PASS     |
+-------------------+----------+
| openSUSE Leap 15  | PASS     |
+-------------------+----------+
| Fedora 40         | PEND     |
+-------------------+----------+
| Fedora 39 (Clang) | PASS     |
+-------------------+----------+
| Ubuntu 22.04      | PASS     |
+-------------------+----------+
| Fedora 39         | PASS     |
+-------------------+----------+
| Ubuntu 24.04      | PEND     |
+-------------------+----------+
Debian Bullseye
	Kernel: 5.4.0-167-generic
	Compiler: gcc 10.2.1-6
CentOS Stream 9
	Kernel: 5.4.0-167-generic
	Compiler: gcc 11.4.1 20230605
CentOS Stream 8
	Kernel: 5.4.0-167-generic
	Compiler: gcc 8.5.0 20210514
Fedora 37
	Kernel: Depends on container host system
	Compiler: gcc 12.3.1
Debian 12
	Kernel: Container Host Kernel
	Compiler: gcc 12.2.0
RHEL8
	Kernel: 5.4.0-167-generic
	Compiler: gcc 8.5.0 20210514 (Red Hat 8.5.0-20)
RHEL9
	Kernel: Depends on container host
	Compiler: gcc 11.4.1
Fedora 38 (Clang)
	Kernel: Depends on container host
	Compiler: clang 16.0.6
Fedora 40 (Clang)
	Kernel: Depends on container host
	Compiler: clang 18.1.6
Fedora 38
	Kernel: Depends on container host
	Compiler: gcc 13.2.1
openSUSE Leap 15
	Kernel: 5.4.0-167-generic
	Compiler: gcc 7.5.0
Fedora 40
	Kernel: Depends on container host
	Compiler: gcc 14.1.1
Fedora 39 (Clang)
	Kernel: Depends on container host
	Compiler: clang 17.0.6
Ubuntu 22.04
	Kernel: 5.4.0-167-generic
	Compiler: gcc 11.4.0
Fedora 39
	Kernel: Depends on container host
	Compiler: gcc 13.2.1
Ubuntu 24.04
	Kernel: 5.4.0-167-generic
	Compiler: gcc 13.2.0
To view detailed results, visit:
https://lab.dpdk.org/results/dashboard/patchsets/30673/
UNH-IOL DPDK Community Lab
To manage your email subscriptions, visit: 
https://lab.dpdk.org/results/dashboard/preferences/subscriptions/
    
    
More information about the test-report
mailing list