|SUCCESS| pw139747 [PATCH] doc: add power uncore API documentation
dpdklab at iol.unh.edu
dpdklab at iol.unh.edu
Wed May 1 01:22:50 CEST 2024
Test-Label: iol-unit-amd64-testing
Test-Status: SUCCESS
http://dpdk.org/patch/139747
_Testing PASS_
Submitter: Ferruh Yigit <ferruh.yigit at amd.com>
Date: Tuesday, April 30 2024 18:57:14
DPDK git baseline: Repo:dpdk
Branch: master
CommitID:7e06c0de1952d3109a5b0c4779d7e7d8059c9d78
139747 --> testing pass
Test environment and result as below:
+-----------------+----------------+
| Environment | dpdk_unit_test |
+=================+================+
| CentOS Stream 8 | PASS |
+-----------------+----------------+
| CentOS Stream 9 | PASS |
+-----------------+----------------+
| Debian Bullseye | PASS |
+-----------------+----------------+
| Debian 12 | PASS |
+-----------------+----------------+
| Fedora 38 | PASS |
+-----------------+----------------+
| Fedora 39 | PASS |
+-----------------+----------------+
CentOS Stream 8
Kernel: 5.4.0-167-generic
Compiler: gcc 8.5.0 20210514
CentOS Stream 9
Kernel: 5.4.0-167-generic
Compiler: gcc 11.4.1 20230605
Debian Bullseye
Kernel: 5.4.0-167-generic
Compiler: gcc 10.2.1-6
Debian 12
Kernel: Container Host Kernel
Compiler: gcc 10.2.1
Fedora 38
Kernel: Depends on container host
Compiler: gcc 13.2.1
Fedora 39
Kernel: Depends on container host
Compiler: gcc 13.2.1
To view detailed results, visit:
https://lab.dpdk.org/results/dashboard/patchsets/29882/
UNH-IOL DPDK Community Lab
To manage your email subscriptions, visit:
https://lab.dpdk.org/results/dashboard/preferences/subscriptions/
More information about the test-report
mailing list