|SUCCESS| [GIT MASTER] 152600d10eebd80e9147b256d61c1dba8731641b
dpdklab at iol.unh.edu
dpdklab at iol.unh.edu
Wed May 1 04:25:46 CEST 2024
_Testing PASS_
Branch: 23.11-staging
152600d10eebd80e9147b256d61c1dba8731641b --> testing pass
Test environment and result as below:
+---------------------+--------------------+-------------------+----------------------+
| Environment | dpdk_meson_compile | dpdk_msvc_compile | dpdk_mingw64_compile |
+=====================+====================+===================+======================+
| FreeBSD 13.3 | PASS | SKIPPED | SKIPPED |
+---------------------+--------------------+-------------------+----------------------+
| Windows Server 2019 | PASS | SKIPPED | PASS |
+---------------------+--------------------+-------------------+----------------------+
| Windows Server 2022 | PASS | PASS | PASS |
+---------------------+--------------------+-------------------+----------------------+
| CentOS Stream 8 | PASS | SKIPPED | SKIPPED |
+---------------------+--------------------+-------------------+----------------------+
| Debian Bullseye | PASS | SKIPPED | SKIPPED |
+---------------------+--------------------+-------------------+----------------------+
| Fedora 38 | PASS | SKIPPED | SKIPPED |
+---------------------+--------------------+-------------------+----------------------+
FreeBSD 13.3
Kernel: 13.3-RELEASE-p1
Compiler: clang 17.0.6
Windows Server 2019
Kernel: 10.0.17763
Compiler: clang 14.0 and gcc 8.1.0 (MinGW)
Windows Server 2022
Kernel: 10.0.20348.2031
Compiler: clang 15.0.7, gcc 8.1.0 (MinGW), and MSVC VS 17.9
CentOS Stream 8
Kernel: 5.4.0-167-generic
Compiler: gcc 8.5.0 20210514
Debian Bullseye
Kernel: 5.4.0-167-generic
Compiler: gcc 10.2.1-6
Fedora 38
Kernel: Depends on container host
Compiler: clang 16.0.6
To view detailed results, visit:
https://lab.dpdk.org/results/dashboard/tarballs/28986/
UNH-IOL DPDK Community Lab
To manage your email subscriptions, visit:
https://lab.dpdk.org/results/dashboard/preferences/subscriptions/
More information about the test-report
mailing list