|SUCCESS| pw139760 [PATCH] [v2,1/1] docs: af_xdp device plugin repo
dpdklab at iol.unh.edu
dpdklab at iol.unh.edu
Wed May 1 15:32:25 CEST 2024
Test-Label: iol-unit-arm64-testing
Test-Status: SUCCESS
http://dpdk.org/patch/139760
_Testing PASS_
Submitter: Maryam Tahhan <mtahhan at redhat.com>
Date: Wednesday, May 01 2024 12:36:51
DPDK git baseline: Repo:dpdk
Branch: master
CommitID:baa8e2c6b4d7ce289e891b9c96fb3193311c0f01
139760 --> testing pass
Test environment and result as below:
+--------------------------+----------------+------------------------------+---------------------------+
| Environment | dpdk_unit_test | cryptodev_sw_snow3g_autotest | cryptodev_sw_zuc_autotest |
+==========================+================+==============================+===========================+
| Debian 11 (Buster) (ARM) | PASS | SKIPPED | SKIPPED |
+--------------------------+----------------+------------------------------+---------------------------+
| Fedora 38 (ARM) | PASS | SKIPPED | SKIPPED |
+--------------------------+----------------+------------------------------+---------------------------+
| CentOS Stream 9 (ARM) | PASS | SKIPPED | SKIPPED |
+--------------------------+----------------+------------------------------+---------------------------+
| Fedora 37 (ARM) | PASS | SKIPPED | SKIPPED |
+--------------------------+----------------+------------------------------+---------------------------+
| Debian 12 (arm) | PASS | PASS | PASS |
+--------------------------+----------------+------------------------------+---------------------------+
| Fedora 39 (ARM) | PASS | SKIPPED | SKIPPED |
+--------------------------+----------------+------------------------------+---------------------------+
Debian 11 (Buster) (ARM)
Kernel: Container Host Kernel
Compiler: gcc 10.2.1
Fedora 38 (ARM)
Kernel: Depends on container host
Compiler: gcc 13.2.1
CentOS Stream 9 (ARM)
Kernel: Container Host Kernel
Compiler: gcc 11.4.1
Fedora 37 (ARM)
Kernel: Depends on container host
Compiler: gcc 12.3.1
Debian 12 (arm)
Kernel: Container Host Kernel
Compiler: gcc 12.2.0
Fedora 39 (ARM)
Kernel: Depends on container host
Compiler: gcc 13.2.1
To view detailed results, visit:
https://lab.dpdk.org/results/dashboard/patchsets/29887/
UNH-IOL DPDK Community Lab
To manage your email subscriptions, visit:
https://lab.dpdk.org/results/dashboard/preferences/subscriptions/
More information about the test-report
mailing list