|SUCCESS| pw139773 [PATCH] [v2] cmdline: increase input buffer size

dpdklab at iol.unh.edu dpdklab at iol.unh.edu
Wed May 1 22:11:56 CEST 2024


Test-Label: iol-unit-arm64-testing
Test-Status: SUCCESS
http://dpdk.org/patch/139773

_Testing PASS_

Submitter: Gregory Etelson <getelson at nvidia.com>
Date: Wednesday, May 01 2024 17:18:06 
DPDK git baseline: Repo:dpdk
  Branch: master
  CommitID:7e06c0de1952d3109a5b0c4779d7e7d8059c9d78

139773 --> testing pass

Test environment and result as below:

+--------------------------+----------------+---------------------------+
|       Environment        | dpdk_unit_test | cryptodev_sw_zuc_autotest |
+==========================+================+===========================+
| Debian 12 (arm)          | PASS           | PASS                      |
+--------------------------+----------------+---------------------------+
| CentOS Stream 9 (ARM)    | PASS           | SKIPPED                   |
+--------------------------+----------------+---------------------------+
| Fedora 38 (ARM)          | PASS           | SKIPPED                   |
+--------------------------+----------------+---------------------------+
| Fedora 37 (ARM)          | PASS           | SKIPPED                   |
+--------------------------+----------------+---------------------------+
| Debian 11 (Buster) (ARM) | PASS           | SKIPPED                   |
+--------------------------+----------------+---------------------------+
| Ubuntu 20.04 (ARM)       | PASS           | SKIPPED                   |
+--------------------------+----------------+---------------------------+
| Fedora 39 (ARM)          | PASS           | SKIPPED                   |
+--------------------------+----------------+---------------------------+


Debian 12 (arm)
	Kernel: Container Host Kernel
	Compiler: gcc 12.2.0

CentOS Stream 9 (ARM)
	Kernel: Container Host Kernel
	Compiler: gcc 11.4.1

Fedora 38 (ARM)
	Kernel: Depends on container host
	Compiler: gcc 13.2.1

Fedora 37 (ARM)
	Kernel: Depends on container host
	Compiler: gcc 12.3.1

Debian 11 (Buster) (ARM)
	Kernel: Container Host Kernel
	Compiler: gcc 10.2.1

Ubuntu 20.04 (ARM)
	Kernel: Container Host Kernel
	Compiler: gcc 9.4.0

Fedora 39 (ARM)
	Kernel: Depends on container host
	Compiler: gcc 13.2.1

To view detailed results, visit:
https://lab.dpdk.org/results/dashboard/patchsets/29890/

UNH-IOL DPDK Community Lab

To manage your email subscriptions, visit: 
https://lab.dpdk.org/results/dashboard/preferences/subscriptions/


More information about the test-report mailing list