|SUCCESS| pw139783-139785 [PATCH] [v4,3/3] event/dlb2: enhance DLB c

dpdklab at iol.unh.edu dpdklab at iol.unh.edu
Thu May 2 06:18:09 CEST 2024


Test-Label: iol-abi-testing
Test-Status: SUCCESS
http://dpdk.org/patch/139785

_Testing PASS_

Submitter: Abdullah Sevincer <abdullah.sevincer at intel.com>
Date: Wednesday, May 01 2024 19:46:20 
DPDK git baseline: Repo:dpdk
  Branch: master
  CommitID:7e06c0de1952d3109a5b0c4779d7e7d8059c9d78

139783-139785 --> testing pass

Test environment and result as below:

+-----------------+----------+
|   Environment   | abi_test |
+=================+==========+
| Fedora 38       | PASS     |
+-----------------+----------+
| Ubuntu 22.04    | PASS     |
+-----------------+----------+
| CentOS Stream 8 | PASS     |
+-----------------+----------+


Fedora 38
	Kernel: Depends on container host
	Compiler: gcc 13.2.1

Ubuntu 22.04
	Kernel: 5.4.0-167-generic
	Compiler: gcc 11.4.0

CentOS Stream 8
	Kernel: 5.4.0-167-generic
	Compiler: gcc 8.5.0 20210514

To view detailed results, visit:
https://lab.dpdk.org/results/dashboard/patchsets/29894/

UNH-IOL DPDK Community Lab

To manage your email subscriptions, visit: 
https://lab.dpdk.org/results/dashboard/preferences/subscriptions/


More information about the test-report mailing list