|SUCCESS| pw139802 [PATCH] eal/arm: replace RTE_BUILD_BUG on non-con

dpdklab at iol.unh.edu dpdklab at iol.unh.edu
Fri May 3 01:02:58 CEST 2024


Test-Label: iol-unit-arm64-testing
Test-Status: SUCCESS
http://dpdk.org/patch/139802

_Testing PASS_

Submitter: Daniel Gregory <daniel.gregory at bytedance.com>
Date: Thursday, May 02 2024 14:21:16 
DPDK git baseline: Repo:dpdk
  Branch: master
  CommitID:7e06c0de1952d3109a5b0c4779d7e7d8059c9d78

139802 --> testing pass

Test environment and result as below:

+--------------------------+--------------+---------------------------+----------------+------------------------------+
|       Environment        | lpm_autotest | cryptodev_sw_zuc_autotest | dpdk_unit_test | cryptodev_sw_snow3g_autotest |
+==========================+==============+===========================+================+==============================+
| Ubuntu 20.04 ARM SVE     | PASS         | SKIPPED                   | SKIPPED        | SKIPPED                      |
+--------------------------+--------------+---------------------------+----------------+------------------------------+
| Debian 12 (arm)          | SKIPPED      | PASS                      | PASS           | PASS                         |
+--------------------------+--------------+---------------------------+----------------+------------------------------+
| Debian 11 (Buster) (ARM) | SKIPPED      | SKIPPED                   | PASS           | SKIPPED                      |
+--------------------------+--------------+---------------------------+----------------+------------------------------+
| Fedora 37 (ARM)          | SKIPPED      | SKIPPED                   | PASS           | SKIPPED                      |
+--------------------------+--------------+---------------------------+----------------+------------------------------+
| Fedora 38 (ARM)          | SKIPPED      | SKIPPED                   | PASS           | SKIPPED                      |
+--------------------------+--------------+---------------------------+----------------+------------------------------+


Ubuntu 20.04 ARM SVE
	Kernel: 5.4.0-167-generic
	Compiler: gcc (Ubuntu 10.5.0-1ubuntu1~20.04) 10.5.0

Debian 12 (arm)
	Kernel: Container Host Kernel
	Compiler: gcc 12.2.0

Debian 11 (Buster) (ARM)
	Kernel: Container Host Kernel
	Compiler: gcc 10.2.1

Fedora 37 (ARM)
	Kernel: Depends on container host
	Compiler: gcc 12.3.1

Fedora 38 (ARM)
	Kernel: Depends on container host
	Compiler: gcc 13.2.1

To view detailed results, visit:
https://lab.dpdk.org/results/dashboard/patchsets/29898/

UNH-IOL DPDK Community Lab

To manage your email subscriptions, visit: 
https://lab.dpdk.org/results/dashboard/preferences/subscriptions/


More information about the test-report mailing list