|SUCCESS| pw139809-139812 [PATCH] [v2,5/5] baseband/acc: cosmetic lo
dpdklab at iol.unh.edu
dpdklab at iol.unh.edu
Fri May 3 10:54:26 CEST 2024
Test-Label: iol-unit-arm64-testing
Test-Status: SUCCESS
http://dpdk.org/patch/139812
_Testing PASS_
Submitter: Hernan Vargas <hernan.vargas at intel.com>
Date: Thursday, May 02 2024 20:45:48
DPDK git baseline: Repo:dpdk
Branch: master
CommitID:98b4ecb4e4d73e93fdfa53f552b48d71104b445f
139809-139812 --> testing pass
Test environment and result as below:
+--------------------------+----------------+--------------+------------------------------+
| Environment | dpdk_unit_test | lpm_autotest | cryptodev_sw_snow3g_autotest |
+==========================+================+==============+==============================+
| Debian 11 (Buster) (ARM) | PASS | SKIPPED | SKIPPED |
+--------------------------+----------------+--------------+------------------------------+
| Fedora 37 (ARM) | PASS | SKIPPED | SKIPPED |
+--------------------------+----------------+--------------+------------------------------+
| Fedora 39 (ARM) | PASS | SKIPPED | SKIPPED |
+--------------------------+----------------+--------------+------------------------------+
| Fedora 38 (ARM) | PASS | SKIPPED | SKIPPED |
+--------------------------+----------------+--------------+------------------------------+
| Debian 12 (arm) | PASS | SKIPPED | PASS |
+--------------------------+----------------+--------------+------------------------------+
| Fedora 38 (ARM Clang) | PASS | SKIPPED | SKIPPED |
+--------------------------+----------------+--------------+------------------------------+
| Ubuntu 20.04 (ARM) | PASS | SKIPPED | SKIPPED |
+--------------------------+----------------+--------------+------------------------------+
| Ubuntu 20.04 ARM SVE | SKIPPED | PASS | SKIPPED |
+--------------------------+----------------+--------------+------------------------------+
Debian 11 (Buster) (ARM)
Kernel: Container Host Kernel
Compiler: gcc 10.2.1
Fedora 37 (ARM)
Kernel: Depends on container host
Compiler: gcc 12.3.1
Fedora 39 (ARM)
Kernel: Depends on container host
Compiler: gcc 13.2.1
Fedora 38 (ARM)
Kernel: Depends on container host
Compiler: gcc 13.2.1
Debian 12 (arm)
Kernel: Container Host Kernel
Compiler: gcc 12.2.0
Fedora 38 (ARM Clang)
Kernel: Depends on container host
Compiler: clang 16.0.6
Ubuntu 20.04 (ARM)
Kernel: Container Host Kernel
Compiler: gcc 9.4.0
Ubuntu 20.04 ARM SVE
Kernel: 5.4.0-167-generic
Compiler: gcc (Ubuntu 10.5.0-1ubuntu1~20.04) 10.5.0
To view detailed results, visit:
https://lab.dpdk.org/results/dashboard/patchsets/29903/
UNH-IOL DPDK Community Lab
To manage your email subscriptions, visit:
https://lab.dpdk.org/results/dashboard/preferences/subscriptions/
More information about the test-report
mailing list