|SUCCESS| pw139828 [PATCH] freebsd: Add support for multiple dpdk in
dpdklab at iol.unh.edu
dpdklab at iol.unh.edu
Fri May 3 15:49:52 CEST 2024
Test-Label: iol-abi-testing
Test-Status: SUCCESS
http://dpdk.org/patch/139828
_Testing PASS_
Submitter: Tom Jones <thj at freebsd.org>
Date: Friday, May 03 2024 09:46:15
DPDK git baseline: Repo:dpdk
Branch: master
CommitID:7e06c0de1952d3109a5b0c4779d7e7d8059c9d78
139828 --> testing pass
Test environment and result as below:
+------------------+----------+
| Environment | abi_test |
+==================+==========+
| Debian Bullseye | PASS |
+------------------+----------+
| openSUSE Leap 15 | PASS |
+------------------+----------+
| Fedora 38 | PASS |
+------------------+----------+
| RHEL8 | PASS |
+------------------+----------+
| Ubuntu 22.04 | PASS |
+------------------+----------+
| CentOS Stream 9 | PASS |
+------------------+----------+
Debian Bullseye
Kernel: 5.4.0-167-generic
Compiler: gcc 10.2.1-6
openSUSE Leap 15
Kernel: 5.4.0-167-generic
Compiler: gcc 7.5.0
Fedora 38
Kernel: Depends on container host
Compiler: gcc 13.2.1
RHEL8
Kernel: 5.4.0-167-generic
Compiler: gcc 8.5.0 20210514 (Red Hat 8.5.0-20)
Ubuntu 22.04
Kernel: 5.4.0-167-generic
Compiler: gcc 11.4.0
CentOS Stream 9
Kernel: 5.4.0-167-generic
Compiler: gcc 11.4.1 20230605
To view detailed results, visit:
https://lab.dpdk.org/results/dashboard/patchsets/29907/
UNH-IOL DPDK Community Lab
To manage your email subscriptions, visit:
https://lab.dpdk.org/results/dashboard/preferences/subscriptions/
More information about the test-report
mailing list