|SUCCESS| pw139829-139855 [PATCH] [v2,27/27] net/ixgbe/base: add var

dpdklab at iol.unh.edu dpdklab at iol.unh.edu
Fri May 3 17:11:09 CEST 2024


Test-Label: iol-unit-arm64-testing
Test-Status: SUCCESS
http://dpdk.org/patch/139855

_Testing PASS_

Submitter: Anatoly Burakov <anatoly.burakov at intel.com>
Date: Friday, May 03 2024 13:57:58 
DPDK git baseline: Repo:dpdk
  Branch: master
  CommitID:2ac57ed414af92f0c30a799e1824fd47f86a94b0

139829-139855 --> testing pass

Test environment and result as below:

+--------------------------+------------------------------+--------------+---------------------------+----------------+
|       Environment        | cryptodev_sw_snow3g_autotest | lpm_autotest | cryptodev_sw_zuc_autotest | dpdk_unit_test |
+==========================+==============================+==============+===========================+================+
| Debian 12 (arm)          | PASS                         | SKIPPED      | PASS                      | SKIPPED        |
+--------------------------+------------------------------+--------------+---------------------------+----------------+
| Ubuntu 20.04 ARM SVE     | SKIPPED                      | PASS         | SKIPPED                   | SKIPPED        |
+--------------------------+------------------------------+--------------+---------------------------+----------------+
| CentOS Stream 9 (ARM)    | SKIPPED                      | SKIPPED      | SKIPPED                   | PASS           |
+--------------------------+------------------------------+--------------+---------------------------+----------------+
| Debian 11 (Buster) (ARM) | SKIPPED                      | SKIPPED      | SKIPPED                   | PASS           |
+--------------------------+------------------------------+--------------+---------------------------+----------------+


Debian 12 (arm)
	Kernel: Container Host Kernel
	Compiler: gcc 12.2.0

Ubuntu 20.04 ARM SVE
	Kernel: 5.4.0-167-generic
	Compiler: gcc (Ubuntu 10.5.0-1ubuntu1~20.04) 10.5.0

CentOS Stream 9 (ARM)
	Kernel: Container Host Kernel
	Compiler: gcc 11.4.1

Debian 11 (Buster) (ARM)
	Kernel: Container Host Kernel
	Compiler: gcc 10.2.1

To view detailed results, visit:
https://lab.dpdk.org/results/dashboard/patchsets/29908/

UNH-IOL DPDK Community Lab

To manage your email subscriptions, visit: 
https://lab.dpdk.org/results/dashboard/preferences/subscriptions/


More information about the test-report mailing list