|SUCCESS| pw139856 [PATCH] [RFC,v3] net/af_packet: make stats reset

dpdklab at iol.unh.edu dpdklab at iol.unh.edu
Fri May 3 23:14:15 CEST 2024


Test-Label: iol-unit-arm64-testing
Test-Status: SUCCESS
http://dpdk.org/patch/139856

_Testing PASS_

Submitter: Ferruh Yigit <ferruh.yigit at amd.com>
Date: Friday, May 03 2024 15:45:47 
DPDK git baseline: Repo:dpdk
  Branch: master
  CommitID:baa8e2c6b4d7ce289e891b9c96fb3193311c0f01

139856 --> testing pass

Test environment and result as below:

+--------------------------+--------------+----------------+---------------------------+------------------------------+
|       Environment        | lpm_autotest | dpdk_unit_test | cryptodev_sw_zuc_autotest | cryptodev_sw_snow3g_autotest |
+==========================+==============+================+===========================+==============================+
| Ubuntu 20.04 ARM SVE     | PASS         | SKIPPED        | SKIPPED                   | SKIPPED                      |
+--------------------------+--------------+----------------+---------------------------+------------------------------+
| Debian 11 (Buster) (ARM) | SKIPPED      | PASS           | SKIPPED                   | SKIPPED                      |
+--------------------------+--------------+----------------+---------------------------+------------------------------+
| CentOS Stream 9 (ARM)    | SKIPPED      | PASS           | SKIPPED                   | SKIPPED                      |
+--------------------------+--------------+----------------+---------------------------+------------------------------+
| Fedora 37 (ARM)          | SKIPPED      | PASS           | SKIPPED                   | SKIPPED                      |
+--------------------------+--------------+----------------+---------------------------+------------------------------+
| Fedora 39 (ARM)          | SKIPPED      | PASS           | SKIPPED                   | SKIPPED                      |
+--------------------------+--------------+----------------+---------------------------+------------------------------+
| Debian 12 (arm)          | SKIPPED      | SKIPPED        | PASS                      | PASS                         |
+--------------------------+--------------+----------------+---------------------------+------------------------------+


Ubuntu 20.04 ARM SVE
	Kernel: 5.4.0-167-generic
	Compiler: gcc (Ubuntu 10.5.0-1ubuntu1~20.04) 10.5.0

Debian 11 (Buster) (ARM)
	Kernel: Container Host Kernel
	Compiler: gcc 10.2.1

CentOS Stream 9 (ARM)
	Kernel: Container Host Kernel
	Compiler: gcc 11.4.1

Fedora 37 (ARM)
	Kernel: Depends on container host
	Compiler: gcc 12.3.1

Fedora 39 (ARM)
	Kernel: Depends on container host
	Compiler: gcc 13.2.1

Debian 12 (arm)
	Kernel: Container Host Kernel
	Compiler: gcc 12.2.0

To view detailed results, visit:
https://lab.dpdk.org/results/dashboard/patchsets/29909/

UNH-IOL DPDK Community Lab

To manage your email subscriptions, visit: 
https://lab.dpdk.org/results/dashboard/preferences/subscriptions/


More information about the test-report mailing list