|SUCCESS| [GIT MASTER] 7e06c0de1952d3109a5b0c4779d7e7d8059c9d78

dpdklab at iol.unh.edu dpdklab at iol.unh.edu
Sat May 4 02:40:43 CEST 2024


_Testing PASS_

Branch: dpdk

7e06c0de1952d3109a5b0c4779d7e7d8059c9d78 --> testing pass

Test environment and result as below:

+--------------------------+----------------+---------------------------+------------------------------+
|       Environment        | dpdk_unit_test | cryptodev_sw_zuc_autotest | cryptodev_sw_snow3g_autotest |
+==========================+================+===========================+==============================+
| Debian 11 (Buster) (ARM) | PASS           | SKIPPED                   | SKIPPED                      |
+--------------------------+----------------+---------------------------+------------------------------+
| Debian 12 (arm)          | PASS           | PASS                      | PASS                         |
+--------------------------+----------------+---------------------------+------------------------------+
| CentOS Stream 9 (ARM)    | PASS           | SKIPPED                   | SKIPPED                      |
+--------------------------+----------------+---------------------------+------------------------------+
| Fedora 37 (ARM)          | PASS           | SKIPPED                   | SKIPPED                      |
+--------------------------+----------------+---------------------------+------------------------------+
| Fedora 39 (ARM)          | PASS           | SKIPPED                   | SKIPPED                      |
+--------------------------+----------------+---------------------------+------------------------------+


Debian 11 (Buster) (ARM)
	Kernel: Container Host Kernel
	Compiler: gcc 10.2.1

Debian 12 (arm)
	Kernel: Container Host Kernel
	Compiler: gcc 12.2.0

CentOS Stream 9 (ARM)
	Kernel: Container Host Kernel
	Compiler: gcc 11.4.1

Fedora 37 (ARM)
	Kernel: Depends on container host
	Compiler: gcc 12.3.1

Fedora 39 (ARM)
	Kernel: Depends on container host
	Compiler: gcc 13.2.1

To view detailed results, visit:
https://lab.dpdk.org/results/dashboard/tarballs/29024/

UNH-IOL DPDK Community Lab

To manage your email subscriptions, visit: 
https://lab.dpdk.org/results/dashboard/preferences/subscriptions/


More information about the test-report mailing list