|SUCCESS| [GIT MASTER] b0b971bf661967fdf3d06e56b5437a779c2915ae

dpdklab at iol.unh.edu dpdklab at iol.unh.edu
Sat May 4 07:49:12 CEST 2024


_Testing PASS_

Branch: tags/v23.11

b0b971bf661967fdf3d06e56b5437a779c2915ae --> testing pass

Test environment and result as below:

+--------------------------+----------------+------------------------------+
|       Environment        | dpdk_unit_test | cryptodev_sw_snow3g_autotest |
+==========================+================+==============================+
| Debian 11 (Buster) (ARM) | PASS           | SKIPPED                      |
+--------------------------+----------------+------------------------------+
| CentOS Stream 9 (ARM)    | PASS           | SKIPPED                      |
+--------------------------+----------------+------------------------------+
| Fedora 37 (ARM)          | PASS           | SKIPPED                      |
+--------------------------+----------------+------------------------------+
| Fedora 38 (ARM)          | PASS           | SKIPPED                      |
+--------------------------+----------------+------------------------------+
| Fedora 39 (ARM)          | PASS           | SKIPPED                      |
+--------------------------+----------------+------------------------------+
| Ubuntu 20.04 (ARM)       | PASS           | SKIPPED                      |
+--------------------------+----------------+------------------------------+
| Debian 12 (arm)          | PASS           | PASS                         |
+--------------------------+----------------+------------------------------+
| Fedora 39 (ARM Clang)    | PASS           | SKIPPED                      |
+--------------------------+----------------+------------------------------+
| Fedora 38 (ARM Clang)    | PASS           | SKIPPED                      |
+--------------------------+----------------+------------------------------+


Debian 11 (Buster) (ARM)
	Kernel: Container Host Kernel
	Compiler: gcc 10.2.1

CentOS Stream 9 (ARM)
	Kernel: Container Host Kernel
	Compiler: gcc 11.4.1

Fedora 37 (ARM)
	Kernel: Depends on container host
	Compiler: gcc 12.3.1

Fedora 38 (ARM)
	Kernel: Depends on container host
	Compiler: gcc 13.2.1

Fedora 39 (ARM)
	Kernel: Depends on container host
	Compiler: gcc 13.2.1

Ubuntu 20.04 (ARM)
	Kernel: Container Host Kernel
	Compiler: gcc 9.4.0

Debian 12 (arm)
	Kernel: Container Host Kernel
	Compiler: gcc 12.2.0

Fedora 39 (ARM Clang)
	Kernel: Depends on container host
	Compiler: clang 17.0.6

Fedora 38 (ARM Clang)
	Kernel: Depends on container host
	Compiler: clang 16.0.6

To view detailed results, visit:
https://lab.dpdk.org/results/dashboard/tarballs/29026/

UNH-IOL DPDK Community Lab

To manage your email subscriptions, visit: 
https://lab.dpdk.org/results/dashboard/preferences/subscriptions/


More information about the test-report mailing list