|SUCCESS| pw139867-139872 [PATCH] [RFC,v7,6/6] eal: add unit tests f

dpdklab at iol.unh.edu dpdklab at iol.unh.edu
Sun May 5 12:01:40 CEST 2024


Test-Label: iol-unit-arm64-testing
Test-Status: SUCCESS
http://dpdk.org/patch/139872

_Testing PASS_

Submitter: Mattias Ronnblom <mattias.ronnblom at ericsson.com>
Date: Sunday, May 05 2024 08:37:37 
DPDK git baseline: Repo:dpdk
  Branch: master
  CommitID:7e06c0de1952d3109a5b0c4779d7e7d8059c9d78

139867-139872 --> testing pass

Test environment and result as below:

+-----------------------------+------------------------------+--------------+----------------+
|         Environment         | cryptodev_sw_snow3g_autotest | lpm_autotest | dpdk_unit_test |
+=============================+==============================+==============+================+
| Debian 12 (arm)             | PASS                         | SKIPPED      | SKIPPED        |
+-----------------------------+------------------------------+--------------+----------------+
| Ubuntu 20.04 ARM SVE        | SKIPPED                      | PASS         | SKIPPED        |
+-----------------------------+------------------------------+--------------+----------------+
| Debian 11 (Buster) (ARM)    | SKIPPED                      | SKIPPED      | PASS           |
+-----------------------------+------------------------------+--------------+----------------+
| 32-bit Ubuntu 20.04.4 (ARM) | SKIPPED                      | SKIPPED      | PASS           |
+-----------------------------+------------------------------+--------------+----------------+


Debian 12 (arm)
	Kernel: Container Host Kernel
	Compiler: gcc 12.2.0

Ubuntu 20.04 ARM SVE
	Kernel: 5.4.0-167-generic
	Compiler: gcc (Ubuntu 10.5.0-1ubuntu1~20.04) 10.5.0

Debian 11 (Buster) (ARM)
	Kernel: Container Host Kernel
	Compiler: gcc 10.2.1

32-bit Ubuntu 20.04.4 (ARM)
	Kernel: 5.4.0-155-generic aarch64
	Compiler: gcc 9.4

To view detailed results, visit:
https://lab.dpdk.org/results/dashboard/patchsets/29915/

UNH-IOL DPDK Community Lab

To manage your email subscriptions, visit: 
https://lab.dpdk.org/results/dashboard/preferences/subscriptions/


More information about the test-report mailing list