|SUCCESS| pw139880-139894 [PATCH] [v2,16/16] net/mlx5/hws: fix actio
dpdklab at iol.unh.edu
dpdklab at iol.unh.edu
Mon May 6 14:38:06 CEST 2024
Test-Label: iol-compile-arm64-testing
Test-Status: SUCCESS
http://dpdk.org/patch/139894
_Testing PASS_
Submitter: Itamar Gozlan <igozlan at nvidia.com>
Date: Monday, May 06 2024 11:44:19
DPDK git baseline: Repo:dpdk
Branch: master
CommitID:a7699c5af857f57eec072cd19ceb1b03998ffe57
139880-139894 --> testing pass
Test environment and result as below:
+----------------------+--------------------+
| Environment | dpdk_meson_compile |
+======================+====================+
| Ubuntu 20.04 ARM SVE | PASS |
+----------------------+--------------------+
| Debian 12 with MUSDK | PASS |
+----------------------+--------------------+
| Fedora 38 (ARM) | PASS |
+----------------------+--------------------+
| Debian 12 (arm) | PASS |
+----------------------+--------------------+
| Fedora 37 (ARM) | PASS |
+----------------------+--------------------+
| Ubuntu 20.04 (ARM) | PASS |
+----------------------+--------------------+
Ubuntu 20.04 ARM SVE
Kernel: 5.4.0-167-generic
Compiler: gcc (Ubuntu 10.5.0-1ubuntu1~20.04) 10.5.0
Debian 12 with MUSDK
Kernel: Container Host Kernel
Compiler: gcc 12.2.0
Fedora 38 (ARM)
Kernel: Depends on container host
Compiler: gcc 13.2.1
Debian 12 (arm)
Kernel: Container Host Kernel
Compiler: gcc 12.2.0
Fedora 37 (ARM)
Kernel: Depends on container host
Compiler: gcc 12.3.1
Ubuntu 20.04 (ARM)
Kernel: Container Host Kernel
Compiler: gcc 9.4.0
To view detailed results, visit:
https://lab.dpdk.org/results/dashboard/patchsets/29918/
UNH-IOL DPDK Community Lab
To manage your email subscriptions, visit:
https://lab.dpdk.org/results/dashboard/preferences/subscriptions/
More information about the test-report
mailing list