|SUCCESS| pw139898-139940 [PATCH] [v5,45/45] app/test-bbdev: use rte
dpdklab at iol.unh.edu
dpdklab at iol.unh.edu
Mon May 6 20:50:29 CEST 2024
Test-Label: iol-compile-amd64-testing
Test-Status: SUCCESS
http://dpdk.org/patch/139940
_Testing PASS_
Submitter: Tyler Retzlaff <roretzla at linux.microsoft.com>
Date: Monday, May 06 2024 17:58:26
DPDK git baseline: Repo:dpdk
Branch: master
CommitID:7e06c0de1952d3109a5b0c4779d7e7d8059c9d78
139898-139940 --> testing pass
Test environment and result as below:
+---------------------+--------------------+----------------------+-------------------+
| Environment | dpdk_meson_compile | dpdk_mingw64_compile | dpdk_msvc_compile |
+=====================+====================+======================+===================+
| FreeBSD 13.3 | PASS | SKIPPED | SKIPPED |
+---------------------+--------------------+----------------------+-------------------+
| Windows Server 2019 | PASS | PASS | SKIPPED |
+---------------------+--------------------+----------------------+-------------------+
| Windows Server 2022 | PASS | PASS | PASS |
+---------------------+--------------------+----------------------+-------------------+
| FreeBSD 14.0 | PASS | SKIPPED | SKIPPED |
+---------------------+--------------------+----------------------+-------------------+
| RHEL8 | PASS | SKIPPED | SKIPPED |
+---------------------+--------------------+----------------------+-------------------+
| Fedora 39 | PASS | SKIPPED | SKIPPED |
+---------------------+--------------------+----------------------+-------------------+
| CentOS Stream 9 | PASS | SKIPPED | SKIPPED |
+---------------------+--------------------+----------------------+-------------------+
| CentOS Stream 8 | PASS | SKIPPED | SKIPPED |
+---------------------+--------------------+----------------------+-------------------+
FreeBSD 13.3
Kernel: 13.3-RELEASE-p1
Compiler: clang 17.0.6
Windows Server 2019
Kernel: 10.0.17763
Compiler: clang 14.0 and gcc 8.1.0 (MinGW)
Windows Server 2022
Kernel: 10.0.20348.2031
Compiler: clang 15.0.7, gcc 8.1.0 (MinGW), and MSVC VS 17.9
FreeBSD 14.0
Kernel: 14.0
Compiler: clang 16.0.6
RHEL8
Kernel: 5.4.0-167-generic
Compiler: gcc 8.5.0 20210514 (Red Hat 8.5.0-20)
Fedora 39
Kernel: Depends on container host
Compiler: gcc 13.2.1
CentOS Stream 9
Kernel: 5.4.0-167-generic
Compiler: gcc 11.4.1 20230605
CentOS Stream 8
Kernel: 5.4.0-167-generic
Compiler: gcc 8.5.0 20210514
To view detailed results, visit:
https://lab.dpdk.org/results/dashboard/patchsets/29919/
UNH-IOL DPDK Community Lab
To manage your email subscriptions, visit:
https://lab.dpdk.org/results/dashboard/preferences/subscriptions/
More information about the test-report
mailing list