|SUCCESS| pw139898-139940 [PATCH] [v5,45/45] app/test-bbdev: use rte
dpdklab at iol.unh.edu
dpdklab at iol.unh.edu
Mon May 6 21:03:42 CEST 2024
Test-Label: iol-unit-arm64-testing
Test-Status: SUCCESS
http://dpdk.org/patch/139940
_Testing PASS_
Submitter: Tyler Retzlaff <roretzla at linux.microsoft.com>
Date: Monday, May 06 2024 17:58:26
DPDK git baseline: Repo:dpdk
Branch: master
CommitID:7e06c0de1952d3109a5b0c4779d7e7d8059c9d78
139898-139940 --> testing pass
Test environment and result as below:
+-----------------------------+------------------------------+----------------+---------------------------+
| Environment | cryptodev_sw_snow3g_autotest | dpdk_unit_test | cryptodev_sw_zuc_autotest |
+=============================+==============================+================+===========================+
| Debian 12 (arm) | PASS | PASS | PASS |
+-----------------------------+------------------------------+----------------+---------------------------+
| CentOS Stream 9 (ARM) | SKIPPED | PASS | SKIPPED |
+-----------------------------+------------------------------+----------------+---------------------------+
| Debian 11 (Buster) (ARM) | SKIPPED | PASS | SKIPPED |
+-----------------------------+------------------------------+----------------+---------------------------+
| Fedora 38 (ARM) | SKIPPED | PASS | SKIPPED |
+-----------------------------+------------------------------+----------------+---------------------------+
| 32-bit Ubuntu 20.04.4 (ARM) | SKIPPED | PASS | SKIPPED |
+-----------------------------+------------------------------+----------------+---------------------------+
Debian 12 (arm)
Kernel: Container Host Kernel
Compiler: gcc 12.2.0
CentOS Stream 9 (ARM)
Kernel: Container Host Kernel
Compiler: gcc 11.4.1
Debian 11 (Buster) (ARM)
Kernel: Container Host Kernel
Compiler: gcc 10.2.1
Fedora 38 (ARM)
Kernel: Depends on container host
Compiler: gcc 13.2.1
32-bit Ubuntu 20.04.4 (ARM)
Kernel: 5.4.0-155-generic aarch64
Compiler: gcc 9.4
To view detailed results, visit:
https://lab.dpdk.org/results/dashboard/patchsets/29919/
UNH-IOL DPDK Community Lab
To manage your email subscriptions, visit:
https://lab.dpdk.org/results/dashboard/preferences/subscriptions/
More information about the test-report
mailing list