|SUCCESS| pw139960-139961 [PATCH] [2/2] latencystats: replace use of
dpdklab at iol.unh.edu
dpdklab at iol.unh.edu
Tue May 7 05:39:30 CEST 2024
Test-Label: iol-unit-arm64-testing
Test-Status: SUCCESS
http://dpdk.org/patch/139961
_Testing PASS_
Submitter: Stephen Hemminger <stephen at networkplumber.org>
Date: Tuesday, May 07 2024 02:53:55
DPDK git baseline: Repo:dpdk
Branch: master
CommitID:7e06c0de1952d3109a5b0c4779d7e7d8059c9d78
139960-139961 --> testing pass
Test environment and result as below:
+-----------------------+---------------------------+------------------------------+----------------+
| Environment | cryptodev_sw_zuc_autotest | cryptodev_sw_snow3g_autotest | dpdk_unit_test |
+=======================+===========================+==============================+================+
| Debian 12 (arm) | PASS | PASS | SKIPPED |
+-----------------------+---------------------------+------------------------------+----------------+
| CentOS Stream 9 (ARM) | SKIPPED | SKIPPED | PASS |
+-----------------------+---------------------------+------------------------------+----------------+
| Fedora 37 (ARM) | SKIPPED | SKIPPED | PASS |
+-----------------------+---------------------------+------------------------------+----------------+
Debian 12 (arm)
Kernel: Container Host Kernel
Compiler: gcc 12.2.0
CentOS Stream 9 (ARM)
Kernel: Container Host Kernel
Compiler: gcc 11.4.1
Fedora 37 (ARM)
Kernel: Depends on container host
Compiler: gcc 12.3.1
To view detailed results, visit:
https://lab.dpdk.org/results/dashboard/patchsets/29921/
UNH-IOL DPDK Community Lab
To manage your email subscriptions, visit:
https://lab.dpdk.org/results/dashboard/preferences/subscriptions/
More information about the test-report
mailing list