|SUCCESS| pw139989-139990 [PATCH] [v6,2/2] dts: Change hugepage 'amo
dpdklab at iol.unh.edu
dpdklab at iol.unh.edu
Tue May 7 19:32:26 CEST 2024
Test-Label: iol-unit-arm64-testing
Test-Status: SUCCESS
http://dpdk.org/patch/139990
_Testing PASS_
Submitter: Nicholas Pratte <npratte at iol.unh.edu>
Date: Tuesday, May 07 2024 16:37:52
DPDK git baseline: Repo:dpdk
Branch: master
CommitID:7e06c0de1952d3109a5b0c4779d7e7d8059c9d78
139989-139990 --> testing pass
Test environment and result as below:
+--------------------------+---------------------------+------------------------------+----------------+
| Environment | cryptodev_sw_zuc_autotest | cryptodev_sw_snow3g_autotest | dpdk_unit_test |
+==========================+===========================+==============================+================+
| Debian 12 (arm) | PASS | PASS | PASS |
+--------------------------+---------------------------+------------------------------+----------------+
| CentOS Stream 9 (ARM) | SKIPPED | SKIPPED | PASS |
+--------------------------+---------------------------+------------------------------+----------------+
| Debian 11 (Buster) (ARM) | SKIPPED | SKIPPED | PASS |
+--------------------------+---------------------------+------------------------------+----------------+
| Fedora 38 (ARM) | SKIPPED | SKIPPED | PASS |
+--------------------------+---------------------------+------------------------------+----------------+
| Fedora 37 (ARM) | SKIPPED | SKIPPED | PASS |
+--------------------------+---------------------------+------------------------------+----------------+
Debian 12 (arm)
Kernel: Container Host Kernel
Compiler: gcc 12.2.0
CentOS Stream 9 (ARM)
Kernel: Container Host Kernel
Compiler: gcc 11.4.1
Debian 11 (Buster) (ARM)
Kernel: Container Host Kernel
Compiler: gcc 10.2.1
Fedora 38 (ARM)
Kernel: Depends on container host
Compiler: gcc 13.2.1
Fedora 37 (ARM)
Kernel: Depends on container host
Compiler: gcc 12.3.1
To view detailed results, visit:
https://lab.dpdk.org/results/dashboard/patchsets/29924/
UNH-IOL DPDK Community Lab
To manage your email subscriptions, visit:
https://lab.dpdk.org/results/dashboard/preferences/subscriptions/
More information about the test-report
mailing list