|SUCCESS| pw139964-139988 [PATCH] [v2,25/25] net/axgbe: modify debug
dpdklab at iol.unh.edu
dpdklab at iol.unh.edu
Tue May 7 20:12:40 CEST 2024
Test-Label: iol-compile-amd64-testing
Test-Status: SUCCESS
http://dpdk.org/patch/139988
_Testing PASS_
Submitter: Venkat Kumar Ande <venkatkumar.ande at amd.com>
Date: Tuesday, May 07 2024 12:43:05
DPDK git baseline: Repo:dpdk
Branch: master
CommitID:baa8e2c6b4d7ce289e891b9c96fb3193311c0f01
139964-139988 --> testing pass
Test environment and result as below:
+---------------------+--------------------+-------------------+----------------------+
| Environment | dpdk_meson_compile | dpdk_msvc_compile | dpdk_mingw64_compile |
+=====================+====================+===================+======================+
| FreeBSD 13.3 | PASS | SKIPPED | SKIPPED |
+---------------------+--------------------+-------------------+----------------------+
| Windows Server 2019 | PASS | SKIPPED | PASS |
+---------------------+--------------------+-------------------+----------------------+
| FreeBSD 14.0 | PASS | SKIPPED | SKIPPED |
+---------------------+--------------------+-------------------+----------------------+
| Windows Server 2022 | PASS | PASS | PASS |
+---------------------+--------------------+-------------------+----------------------+
| CentOS Stream 9 | PASS | SKIPPED | SKIPPED |
+---------------------+--------------------+-------------------+----------------------+
FreeBSD 13.3
Kernel: 13.3-RELEASE-p1
Compiler: clang 17.0.6
Windows Server 2019
Kernel: 10.0.17763
Compiler: clang 14.0 and gcc 8.1.0 (MinGW)
FreeBSD 14.0
Kernel: 14.0
Compiler: clang 16.0.6
Windows Server 2022
Kernel: 10.0.20348.2031
Compiler: clang 15.0.7, gcc 8.1.0 (MinGW), and MSVC VS 17.9
CentOS Stream 9
Kernel: 5.4.0-167-generic
Compiler: gcc 11.4.1 20230605
To view detailed results, visit:
https://lab.dpdk.org/results/dashboard/patchsets/29923/
UNH-IOL DPDK Community Lab
To manage your email subscriptions, visit:
https://lab.dpdk.org/results/dashboard/preferences/subscriptions/
More information about the test-report
mailing list