|SUCCESS| [GIT MASTER] 51783c9b605a408ee9d72200347de6e5cbd2daf7
dpdklab at iol.unh.edu
dpdklab at iol.unh.edu
Thu May 9 07:04:53 CEST 2024
_Testing PASS_
Branch: tags/v23.11
51783c9b605a408ee9d72200347de6e5cbd2daf7 --> testing pass
Test environment and result as below:
+-----------------------------+----------------+
| Environment | dpdk_unit_test |
+=============================+================+
| Debian 12 (arm) | PASS |
+-----------------------------+----------------+
| Fedora 38 (ARM) | PASS |
+-----------------------------+----------------+
| Debian 11 (Buster) (ARM) | PASS |
+-----------------------------+----------------+
| Fedora 39 (ARM) | PASS |
+-----------------------------+----------------+
| Fedora 37 (ARM) | PASS |
+-----------------------------+----------------+
| 32-bit Ubuntu 20.04.4 (ARM) | PASS |
+-----------------------------+----------------+
| Fedora 38 (ARM Clang) | PASS |
+-----------------------------+----------------+
| Ubuntu 20.04 (ARM) | PASS |
+-----------------------------+----------------+
Debian 12 (arm)
Kernel: Container Host Kernel
Compiler: gcc 12.2.0
Fedora 38 (ARM)
Kernel: Depends on container host
Compiler: gcc 13.2.1
Debian 11 (Buster) (ARM)
Kernel: Container Host Kernel
Compiler: gcc 10.2.1
Fedora 39 (ARM)
Kernel: Depends on container host
Compiler: gcc 13.2.1
Fedora 37 (ARM)
Kernel: Depends on container host
Compiler: gcc 12.3.1
32-bit Ubuntu 20.04.4 (ARM)
Kernel: 5.4.0-155-generic aarch64
Compiler: gcc 9.4
Fedora 38 (ARM Clang)
Kernel: Depends on container host
Compiler: clang 16.0.6
Ubuntu 20.04 (ARM)
Kernel: Container Host Kernel
Compiler: gcc 9.4.0
To view detailed results, visit:
https://lab.dpdk.org/results/dashboard/tarballs/29060/
UNH-IOL DPDK Community Lab
To manage your email subscriptions, visit:
https://lab.dpdk.org/results/dashboard/preferences/subscriptions/
More information about the test-report
mailing list