|SUCCESS| pw139997-139998 [PATCH] [2/2] dts: clean up config types

dpdklab at iol.unh.edu dpdklab at iol.unh.edu
Thu May 9 13:48:22 CEST 2024


Test-Label: iol-unit-arm64-testing
Test-Status: SUCCESS
http://dpdk.org/patch/139998

_Testing PASS_

Submitter: Luca Vizzarro <luca.vizzarro at arm.com>
Date: Thursday, May 09 2024 10:57:04 
DPDK git baseline: Repo:dpdk
  Branch: master
  CommitID:7e06c0de1952d3109a5b0c4779d7e7d8059c9d78

139997-139998 --> testing pass

Test environment and result as below:

+-----------------------+------------------------------+---------------------------+----------------+--------------+
|      Environment      | cryptodev_sw_snow3g_autotest | cryptodev_sw_zuc_autotest | dpdk_unit_test | lpm_autotest |
+=======================+==============================+===========================+================+==============+
| Debian 12 (arm)       | PASS                         | PASS                      | PASS           | SKIPPED      |
+-----------------------+------------------------------+---------------------------+----------------+--------------+
| CentOS Stream 9 (ARM) | SKIPPED                      | SKIPPED                   | PASS           | SKIPPED      |
+-----------------------+------------------------------+---------------------------+----------------+--------------+
| Ubuntu 20.04 ARM SVE  | SKIPPED                      | SKIPPED                   | SKIPPED        | PASS         |
+-----------------------+------------------------------+---------------------------+----------------+--------------+


Debian 12 (arm)
	Kernel: Container Host Kernel
	Compiler: gcc 12.2.0

CentOS Stream 9 (ARM)
	Kernel: Container Host Kernel
	Compiler: gcc 11.4.1

Ubuntu 20.04 ARM SVE
	Kernel: 5.4.0-167-generic
	Compiler: gcc (Ubuntu 10.5.0-1ubuntu1~20.04) 10.5.0

To view detailed results, visit:
https://lab.dpdk.org/results/dashboard/patchsets/29929/

UNH-IOL DPDK Community Lab

To manage your email subscriptions, visit: 
https://lab.dpdk.org/results/dashboard/preferences/subscriptions/


More information about the test-report mailing list