|SUCCESS| pw140020-140022 [PATCH] [3/3] net/af_xdp: Fix stats reset

dpdklab at iol.unh.edu dpdklab at iol.unh.edu
Fri May 10 13:14:33 CEST 2024


Test-Label: iol-unit-arm64-testing
Test-Status: SUCCESS
http://dpdk.org/patch/140022

_Testing PASS_

Submitter: Ciara Loftus <ciara.loftus at intel.com>
Date: Friday, May 10 2024 10:03:58 
DPDK git baseline: Repo:dpdk
  Branch: master
  CommitID:baa8e2c6b4d7ce289e891b9c96fb3193311c0f01

140020-140022 --> testing pass

Test environment and result as below:

+--------------------------+----------------+------------------------------+---------------------------+--------------+
|       Environment        | dpdk_unit_test | cryptodev_sw_snow3g_autotest | cryptodev_sw_zuc_autotest | lpm_autotest |
+==========================+================+==============================+===========================+==============+
| Debian 12 (arm)          | PASS           | PASS                         | PASS                      | SKIPPED      |
+--------------------------+----------------+------------------------------+---------------------------+--------------+
| Debian 11 (Buster) (ARM) | PASS           | SKIPPED                      | SKIPPED                   | SKIPPED      |
+--------------------------+----------------+------------------------------+---------------------------+--------------+
| CentOS Stream 9 (ARM)    | PASS           | SKIPPED                      | SKIPPED                   | SKIPPED      |
+--------------------------+----------------+------------------------------+---------------------------+--------------+
| Fedora 37 (ARM)          | PASS           | SKIPPED                      | SKIPPED                   | SKIPPED      |
+--------------------------+----------------+------------------------------+---------------------------+--------------+
| Fedora 39 (ARM)          | PASS           | SKIPPED                      | SKIPPED                   | SKIPPED      |
+--------------------------+----------------+------------------------------+---------------------------+--------------+
| Ubuntu 20.04 (ARM)       | PASS           | SKIPPED                      | SKIPPED                   | SKIPPED      |
+--------------------------+----------------+------------------------------+---------------------------+--------------+
| Fedora 38 (ARM Clang)    | PASS           | SKIPPED                      | SKIPPED                   | SKIPPED      |
+--------------------------+----------------+------------------------------+---------------------------+--------------+
| Ubuntu 20.04 ARM SVE     | SKIPPED        | SKIPPED                      | SKIPPED                   | PASS         |
+--------------------------+----------------+------------------------------+---------------------------+--------------+


Debian 12 (arm)
	Kernel: Container Host Kernel
	Compiler: gcc 12.2.0

Debian 11 (Buster) (ARM)
	Kernel: Container Host Kernel
	Compiler: gcc 10.2.1

CentOS Stream 9 (ARM)
	Kernel: Container Host Kernel
	Compiler: gcc 11.4.1

Fedora 37 (ARM)
	Kernel: Depends on container host
	Compiler: gcc 12.3.1

Fedora 39 (ARM)
	Kernel: Depends on container host
	Compiler: gcc 13.2.1

Ubuntu 20.04 (ARM)
	Kernel: Container Host Kernel
	Compiler: gcc 9.4.0

Fedora 38 (ARM Clang)
	Kernel: Depends on container host
	Compiler: clang 16.0.6

Ubuntu 20.04 ARM SVE
	Kernel: 5.4.0-167-generic
	Compiler: gcc (Ubuntu 10.5.0-1ubuntu1~20.04) 10.5.0

To view detailed results, visit:
https://lab.dpdk.org/results/dashboard/patchsets/29938/

UNH-IOL DPDK Community Lab

To manage your email subscriptions, visit: 
https://lab.dpdk.org/results/dashboard/preferences/subscriptions/


More information about the test-report mailing list