|SUCCESS| pw140023 [PATCH] [v2] net/af_xdp: fix umem map size for ze

dpdklab at iol.unh.edu dpdklab at iol.unh.edu
Sat May 11 09:05:06 CEST 2024


Test-Label: iol-unit-arm64-testing
Test-Status: SUCCESS
http://dpdk.org/patch/140023

_Testing PASS_

Submitter: Frank Du <frank.du at intel.com>
Date: Saturday, May 11 2024 05:26:18 
DPDK git baseline: Repo:dpdk
  Branch: master
  CommitID:baa8e2c6b4d7ce289e891b9c96fb3193311c0f01

140023 --> testing pass

Test environment and result as below:

+-----------------------------+---------------------------+----------------+------------------------------+
|         Environment         | cryptodev_sw_zuc_autotest | dpdk_unit_test | cryptodev_sw_snow3g_autotest |
+=============================+===========================+================+==============================+
| Debian 12 (arm)             | PASS                      | PASS           | PASS                         |
+-----------------------------+---------------------------+----------------+------------------------------+
| Debian 11 (Buster) (ARM)    | SKIPPED                   | PASS           | SKIPPED                      |
+-----------------------------+---------------------------+----------------+------------------------------+
| Fedora 37 (ARM)             | SKIPPED                   | PASS           | SKIPPED                      |
+-----------------------------+---------------------------+----------------+------------------------------+
| CentOS Stream 9 (ARM)       | SKIPPED                   | PASS           | SKIPPED                      |
+-----------------------------+---------------------------+----------------+------------------------------+
| Fedora 38 (ARM)             | SKIPPED                   | PASS           | SKIPPED                      |
+-----------------------------+---------------------------+----------------+------------------------------+
| 32-bit Ubuntu 20.04.4 (ARM) | SKIPPED                   | PASS           | SKIPPED                      |
+-----------------------------+---------------------------+----------------+------------------------------+
| Ubuntu 20.04 (ARM)          | SKIPPED                   | PASS           | SKIPPED                      |
+-----------------------------+---------------------------+----------------+------------------------------+
| Fedora 39 (ARM Clang)       | SKIPPED                   | PASS           | SKIPPED                      |
+-----------------------------+---------------------------+----------------+------------------------------+
| Fedora 39 (ARM)             | SKIPPED                   | PASS           | SKIPPED                      |
+-----------------------------+---------------------------+----------------+------------------------------+
| Fedora 38 (ARM Clang)       | SKIPPED                   | PASS           | SKIPPED                      |
+-----------------------------+---------------------------+----------------+------------------------------+


Debian 12 (arm)
	Kernel: Container Host Kernel
	Compiler: gcc 12.2.0

Debian 11 (Buster) (ARM)
	Kernel: Container Host Kernel
	Compiler: gcc 10.2.1

Fedora 37 (ARM)
	Kernel: Depends on container host
	Compiler: gcc 12.3.1

CentOS Stream 9 (ARM)
	Kernel: Container Host Kernel
	Compiler: gcc 11.4.1

Fedora 38 (ARM)
	Kernel: Depends on container host
	Compiler: gcc 13.2.1

32-bit Ubuntu 20.04.4 (ARM)
	Kernel: 5.4.0-155-generic aarch64
	Compiler: gcc 9.4

Ubuntu 20.04 (ARM)
	Kernel: Container Host Kernel
	Compiler: gcc 9.4.0

Fedora 39 (ARM Clang)
	Kernel: Depends on container host
	Compiler: clang 17.0.6

Fedora 39 (ARM)
	Kernel: Depends on container host
	Compiler: gcc 13.2.1

Fedora 38 (ARM Clang)
	Kernel: Depends on container host
	Compiler: clang 16.0.6

To view detailed results, visit:
https://lab.dpdk.org/results/dashboard/patchsets/29939/

UNH-IOL DPDK Community Lab

To manage your email subscriptions, visit: 
https://lab.dpdk.org/results/dashboard/preferences/subscriptions/


More information about the test-report mailing list