|SUCCESS| [GIT MASTER] 51783c9b605a408ee9d72200347de6e5cbd2daf7
dpdklab at iol.unh.edu
dpdklab at iol.unh.edu
Sun May 12 06:34:45 CEST 2024
_Testing PASS_
Branch: tags/v23.11
51783c9b605a408ee9d72200347de6e5cbd2daf7 --> testing pass
Test environment and result as below:
+---------------------+-------------------+--------------------+----------------------+
| Environment | dpdk_msvc_compile | dpdk_meson_compile | dpdk_mingw64_compile |
+=====================+===================+====================+======================+
| Windows Server 2022 | PASS | PASS | PASS |
+---------------------+-------------------+--------------------+----------------------+
| Debian 12 | SKIPPED | PASS | SKIPPED |
+---------------------+-------------------+--------------------+----------------------+
| CentOS Stream 9 | SKIPPED | PASS | SKIPPED |
+---------------------+-------------------+--------------------+----------------------+
| CentOS Stream 8 | SKIPPED | PASS | SKIPPED |
+---------------------+-------------------+--------------------+----------------------+
| Debian Bullseye | SKIPPED | PASS | SKIPPED |
+---------------------+-------------------+--------------------+----------------------+
| FreeBSD 13.3 | SKIPPED | PASS | SKIPPED |
+---------------------+-------------------+--------------------+----------------------+
| Fedora 37 | SKIPPED | PASS | SKIPPED |
+---------------------+-------------------+--------------------+----------------------+
| FreeBSD 14.0 | SKIPPED | PASS | SKIPPED |
+---------------------+-------------------+--------------------+----------------------+
| Windows Server 2019 | SKIPPED | SKIPPED | PASS |
+---------------------+-------------------+--------------------+----------------------+
Windows Server 2022
Kernel: 10.0.20348.2031
Compiler: clang 15.0.7, gcc 8.1.0 (MinGW), and MSVC VS 17.9
Debian 12
Kernel: Container Host Kernel
Compiler: gcc 10.2.1
CentOS Stream 9
Kernel: 5.4.0-167-generic
Compiler: gcc 11.4.1 20230605
CentOS Stream 8
Kernel: 5.4.0-167-generic
Compiler: gcc 8.5.0 20210514
Debian Bullseye
Kernel: 5.4.0-167-generic
Compiler: gcc 10.2.1-6
FreeBSD 13.3
Kernel: 13.3-RELEASE-p1
Compiler: clang 17.0.6
Fedora 37
Kernel: Depends on container host system
Compiler: gcc 12.3.1
FreeBSD 14.0
Kernel: 14.0
Compiler: clang 16.0.6
Windows Server 2019
Kernel: 10.0.17763
Compiler: clang 14.0 and gcc 8.1.0 (MinGW)
To view detailed results, visit:
https://lab.dpdk.org/results/dashboard/tarballs/29080/
UNH-IOL DPDK Community Lab
To manage your email subscriptions, visit:
https://lab.dpdk.org/results/dashboard/preferences/subscriptions/
More information about the test-report
mailing list