|SUCCESS| pw140026 [PATCH] bpf: don't verify classic bpfs
dpdklab at iol.unh.edu
dpdklab at iol.unh.edu
Mon May 13 14:47:11 CEST 2024
Test-Label: iol-compile-amd64-testing
Test-Status: SUCCESS
http://dpdk.org/patch/140026
_Testing PASS_
Submitter: Yoav Winstein <yoav.w at claroty.com>
Date: Sunday, May 12 2024 05:55:45
DPDK git baseline: Repo:dpdk
Branch: master
CommitID:7e06c0de1952d3109a5b0c4779d7e7d8059c9d78
140026 --> testing pass
Test environment and result as below:
+---------------------+-------------------+--------------------+----------------------+
| Environment | dpdk_msvc_compile | dpdk_meson_compile | dpdk_mingw64_compile |
+=====================+===================+====================+======================+
| Windows Server 2022 | PASS | PASS | PASS |
+---------------------+-------------------+--------------------+----------------------+
| FreeBSD 13.3 | SKIPPED | PASS | SKIPPED |
+---------------------+-------------------+--------------------+----------------------+
| FreeBSD 14.0 | SKIPPED | PASS | SKIPPED |
+---------------------+-------------------+--------------------+----------------------+
| Windows Server 2019 | SKIPPED | PASS | PASS |
+---------------------+-------------------+--------------------+----------------------+
| CentOS Stream 8 | SKIPPED | PASS | SKIPPED |
+---------------------+-------------------+--------------------+----------------------+
| CentOS Stream 9 | SKIPPED | PASS | SKIPPED |
+---------------------+-------------------+--------------------+----------------------+
| Debian 12 | SKIPPED | PASS | SKIPPED |
+---------------------+-------------------+--------------------+----------------------+
| Fedora 39 | SKIPPED | PASS | SKIPPED |
+---------------------+-------------------+--------------------+----------------------+
| Fedora 38 | SKIPPED | PASS | SKIPPED |
+---------------------+-------------------+--------------------+----------------------+
| openSUSE Leap 15 | SKIPPED | PASS | SKIPPED |
+---------------------+-------------------+--------------------+----------------------+
| Ubuntu 22.04 | SKIPPED | PASS | SKIPPED |
+---------------------+-------------------+--------------------+----------------------+
| RHEL8 | SKIPPED | PASS | SKIPPED |
+---------------------+-------------------+--------------------+----------------------+
| Fedora 37 | SKIPPED | PASS | SKIPPED |
+---------------------+-------------------+--------------------+----------------------+
| Ubuntu 20.04 | SKIPPED | PASS | SKIPPED |
+---------------------+-------------------+--------------------+----------------------+
| Debian Bullseye | SKIPPED | PASS | SKIPPED |
+---------------------+-------------------+--------------------+----------------------+
Windows Server 2022
Kernel: 10.0.20348.2031
Compiler: clang 15.0.7, gcc 8.1.0 (MinGW), and MSVC VS 17.9
FreeBSD 13.3
Kernel: 13.3-RELEASE-p1
Compiler: clang 17.0.6
FreeBSD 14.0
Kernel: 14.0
Compiler: clang 16.0.6
Windows Server 2019
Kernel: 10.0.17763
Compiler: clang 14.0 and gcc 8.1.0 (MinGW)
CentOS Stream 8
Kernel: 5.4.0-167-generic
Compiler: gcc 8.5.0 20210514
CentOS Stream 9
Kernel: 5.4.0-167-generic
Compiler: gcc 11.4.1 20230605
Debian 12
Kernel: Container Host Kernel
Compiler: gcc 10.2.1
Fedora 39
Kernel: Depends on container host
Compiler: gcc 13.2.1
Fedora 38
Kernel: Depends on container host
Compiler: gcc 13.2.1
openSUSE Leap 15
Kernel: 5.4.0-167-generic
Compiler: gcc 7.5.0
Ubuntu 22.04
Kernel: 5.4.0-167-generic
Compiler: gcc 11.4.0
RHEL8
Kernel: 5.4.0-167-generic
Compiler: gcc 8.5.0 20210514 (Red Hat 8.5.0-20)
Fedora 37
Kernel: Depends on container host system
Compiler: gcc 12.3.1
Ubuntu 20.04
Kernel: 5.4.0-167-generic
Compiler: gcc 9.4.0-1ubuntu1~20.04.1
Debian Bullseye
Kernel: 5.4.0-167-generic
Compiler: gcc 10.2.1-6
To view detailed results, visit:
https://lab.dpdk.org/results/dashboard/patchsets/29942/
UNH-IOL DPDK Community Lab
To manage your email subscriptions, visit:
https://lab.dpdk.org/results/dashboard/preferences/subscriptions/
More information about the test-report
mailing list