|SUCCESS| pw140030-140038 [PATCH] [9/9] doc: reword rcu library sect
dpdklab at iol.unh.edu
dpdklab at iol.unh.edu
Mon May 13 18:58:08 CEST 2024
Test-Label: iol-unit-arm64-testing
Test-Status: SUCCESS
http://dpdk.org/patch/140038
_Testing PASS_
Submitter: Nandini Persad <nandinipersad361 at gmail.com>
Date: Monday, May 13 2024 15:59:11
DPDK git baseline: Repo:dpdk
Branch: master
CommitID:7e06c0de1952d3109a5b0c4779d7e7d8059c9d78
140030-140038 --> testing pass
Test environment and result as below:
+--------------------------+------------------------------+---------------------------+----------------+
| Environment | cryptodev_sw_snow3g_autotest | cryptodev_sw_zuc_autotest | dpdk_unit_test |
+==========================+==============================+===========================+================+
| Debian 12 (arm) | PASS | PASS | PASS |
+--------------------------+------------------------------+---------------------------+----------------+
| CentOS Stream 9 (ARM) | SKIPPED | SKIPPED | PASS |
+--------------------------+------------------------------+---------------------------+----------------+
| Debian 11 (Buster) (ARM) | SKIPPED | SKIPPED | PASS |
+--------------------------+------------------------------+---------------------------+----------------+
Debian 12 (arm)
Kernel: Container Host Kernel
Compiler: gcc 12.2.0
CentOS Stream 9 (ARM)
Kernel: Container Host Kernel
Compiler: gcc 11.4.1
Debian 11 (Buster) (ARM)
Kernel: Container Host Kernel
Compiler: gcc 10.2.1
To view detailed results, visit:
https://lab.dpdk.org/results/dashboard/patchsets/29946/
UNH-IOL DPDK Community Lab
To manage your email subscriptions, visit:
https://lab.dpdk.org/results/dashboard/preferences/subscriptions/
More information about the test-report
mailing list