|SUCCESS| pw140039 [PATCH] [v3] lib/hash: setting the maximum reclam

dpdklab at iol.unh.edu dpdklab at iol.unh.edu
Mon May 13 22:09:34 CEST 2024


Test-Label: iol-abi-testing
Test-Status: SUCCESS
http://dpdk.org/patch/140039

_Testing PASS_

Submitter: Abdullah Omer Yamac <aomeryamac at gmail.com>
Date: Monday, May 13 2024 16:35:53 
DPDK git baseline: Repo:dpdk
  Branch: master
  CommitID:7e06c0de1952d3109a5b0c4779d7e7d8059c9d78

140039 --> testing pass

Test environment and result as below:

+-----------------+----------+
|   Environment   | abi_test |
+=================+==========+
| CentOS Stream 9 | PASS     |
+-----------------+----------+
| Debian 12       | PASS     |
+-----------------+----------+
| Fedora 37       | PASS     |
+-----------------+----------+


CentOS Stream 9
	Kernel: 5.4.0-167-generic
	Compiler: gcc 11.4.1 20230605

Debian 12
	Kernel: Container Host Kernel
	Compiler: gcc 10.2.1

Fedora 37
	Kernel: Depends on container host system
	Compiler: gcc 12.3.1

To view detailed results, visit:
https://lab.dpdk.org/results/dashboard/patchsets/29947/

UNH-IOL DPDK Community Lab

To manage your email subscriptions, visit: 
https://lab.dpdk.org/results/dashboard/preferences/subscriptions/


More information about the test-report mailing list