|SUCCESS| pw140039 [PATCH] [v3] lib/hash: setting the maximum reclam

dpdklab at iol.unh.edu dpdklab at iol.unh.edu
Mon May 13 22:24:43 CEST 2024


Test-Label: iol-compile-amd64-testing
Test-Status: SUCCESS
http://dpdk.org/patch/140039

_Testing PASS_

Submitter: Abdullah Omer Yamac <aomeryamac at gmail.com>
Date: Monday, May 13 2024 16:35:53 
DPDK git baseline: Repo:dpdk
  Branch: master
  CommitID:7e06c0de1952d3109a5b0c4779d7e7d8059c9d78

140039 --> testing pass

Test environment and result as below:

+---------------------+--------------------+
|     Environment     | dpdk_meson_compile |
+=====================+====================+
| FreeBSD 13.3        | PASS               |
+---------------------+--------------------+
| Debian Bullseye     | PASS               |
+---------------------+--------------------+
| CentOS Stream 9     | PASS               |
+---------------------+--------------------+
| CentOS Stream 8     | PASS               |
+---------------------+--------------------+
| Windows Server 2022 | PASS               |
+---------------------+--------------------+
| FreeBSD 14.0        | PASS               |
+---------------------+--------------------+
| Windows Server 2019 | PASS               |
+---------------------+--------------------+


FreeBSD 13.3
	Kernel: 13.3-RELEASE-p1
	Compiler: clang 17.0.6

Debian Bullseye
	Kernel: 5.4.0-167-generic
	Compiler: gcc 10.2.1-6

CentOS Stream 9
	Kernel: 5.4.0-167-generic
	Compiler: gcc 11.4.1 20230605

CentOS Stream 8
	Kernel: 5.4.0-167-generic
	Compiler: gcc 8.5.0 20210514

Windows Server 2022
	Kernel: 10.0.20348.2031
	Compiler: clang 15.0.7, gcc 8.1.0 (MinGW), and MSVC VS 17.9

FreeBSD 14.0
	Kernel: 14.0
	Compiler: clang 16.0.6

Windows Server 2019
	Kernel: 10.0.17763
	Compiler: clang 14.0 and gcc 8.1.0 (MinGW)

To view detailed results, visit:
https://lab.dpdk.org/results/dashboard/patchsets/29947/

UNH-IOL DPDK Community Lab

To manage your email subscriptions, visit: 
https://lab.dpdk.org/results/dashboard/preferences/subscriptions/


More information about the test-report mailing list