|SUCCESS| pw140054-140055 [PATCH] [v2,2/2] dts: clean up config type
dpdklab at iol.unh.edu
dpdklab at iol.unh.edu
Tue May 14 14:20:54 CEST 2024
Test-Label: iol-unit-arm64-testing
Test-Status: SUCCESS
http://dpdk.org/patch/140055
_Testing PASS_
Submitter: Luca Vizzarro <luca.vizzarro at arm.com>
Date: Tuesday, May 14 2024 11:34:46
DPDK git baseline: Repo:dpdk
Branch: master
CommitID:7e06c0de1952d3109a5b0c4779d7e7d8059c9d78
140054-140055 --> testing pass
Test environment and result as below:
+--------------------------+------------------------------+---------------------------+----------------+
| Environment | cryptodev_sw_snow3g_autotest | cryptodev_sw_zuc_autotest | dpdk_unit_test |
+==========================+==============================+===========================+================+
| Debian 12 (arm) | PASS | PASS | SKIPPED |
+--------------------------+------------------------------+---------------------------+----------------+
| Debian 11 (Buster) (ARM) | SKIPPED | SKIPPED | PASS |
+--------------------------+------------------------------+---------------------------+----------------+
| Fedora 38 (ARM) | SKIPPED | SKIPPED | PASS |
+--------------------------+------------------------------+---------------------------+----------------+
Debian 12 (arm)
Kernel: Container Host Kernel
Compiler: gcc 12.2.0
Debian 11 (Buster) (ARM)
Kernel: Container Host Kernel
Compiler: gcc 10.2.1
Fedora 38 (ARM)
Kernel: Depends on container host
Compiler: gcc 13.2.1
To view detailed results, visit:
https://lab.dpdk.org/results/dashboard/patchsets/29953/
UNH-IOL DPDK Community Lab
To manage your email subscriptions, visit:
https://lab.dpdk.org/results/dashboard/preferences/subscriptions/
More information about the test-report
mailing list