|SUCCESS| pw140053 [PATCH] [v6] lib/vhost: add flag for async connec
dpdklab at iol.unh.edu
dpdklab at iol.unh.edu
Tue May 14 15:15:13 CEST 2024
Test-Label: iol-compile-arm64-testing
Test-Status: SUCCESS
http://dpdk.org/patch/140053
_Testing PASS_
Submitter: Daniil Ushkov <daniil.ushkov at yandex.ru>
Date: Tuesday, May 14 2024 09:16:30
DPDK git baseline: Repo:dpdk
Branch: master
CommitID:7e06c0de1952d3109a5b0c4779d7e7d8059c9d78
140053 --> testing pass
Test environment and result as below:
+--------------------------------------+--------------------+
| Environment | dpdk_meson_compile |
+======================================+====================+
| Ubuntu 20.04 ARM SVE | PASS |
+--------------------------------------+--------------------+
| Debian 12 with MUSDK | PASS |
+--------------------------------------+--------------------+
| Fedora 38 (ARM) | PASS |
+--------------------------------------+--------------------+
| Fedora 37 (ARM) | PASS |
+--------------------------------------+--------------------+
| Debian 11 (Buster) (ARM) | PASS |
+--------------------------------------+--------------------+
| Ubuntu 20.04 (ARM) | PASS |
+--------------------------------------+--------------------+
| Fedora 39 (ARM) | PASS |
+--------------------------------------+--------------------+
| CentOS Stream 9 (ARM) | PASS |
+--------------------------------------+--------------------+
| Debian 12 (arm) | PASS |
+--------------------------------------+--------------------+
| Ubuntu 20.04 ARM GCC Cross Compile | PASS |
+--------------------------------------+--------------------+
| Ubuntu 20.04 ARM Clang Cross Compile | PASS |
+--------------------------------------+--------------------+
Ubuntu 20.04 ARM SVE
Kernel: 5.4.0-167-generic
Compiler: gcc (Ubuntu 10.5.0-1ubuntu1~20.04) 10.5.0
Debian 12 with MUSDK
Kernel: Container Host Kernel
Compiler: gcc 12.2.0
Fedora 38 (ARM)
Kernel: Depends on container host
Compiler: gcc 13.2.1
Fedora 37 (ARM)
Kernel: Depends on container host
Compiler: gcc 12.3.1
Debian 11 (Buster) (ARM)
Kernel: Container Host Kernel
Compiler: gcc 10.2.1
Ubuntu 20.04 (ARM)
Kernel: Container Host Kernel
Compiler: gcc 9.4.0
Fedora 39 (ARM)
Kernel: Depends on container host
Compiler: gcc 13.2.1
CentOS Stream 9 (ARM)
Kernel: Container Host Kernel
Compiler: gcc 11.4.1
Debian 12 (arm)
Kernel: Container Host Kernel
Compiler: gcc 12.2.0
Ubuntu 20.04 ARM GCC Cross Compile
Kernel: 5.4.0-167-generic
Compiler: aarch64-linux-gnu-gcc (Ubuntu 9.4.0-1ubuntu1~20.04.2) 9.4.0
Ubuntu 20.04 ARM Clang Cross Compile
Kernel: 5.4.0-72-generic
Compiler: clang 10.0.0-4ubuntu1
To view detailed results, visit:
https://lab.dpdk.org/results/dashboard/patchsets/29952/
UNH-IOL DPDK Community Lab
To manage your email subscriptions, visit:
https://lab.dpdk.org/results/dashboard/preferences/subscriptions/
More information about the test-report
mailing list