|SUCCESS| pw140053 [PATCH] [v6] lib/vhost: add flag for async connec

dpdklab at iol.unh.edu dpdklab at iol.unh.edu
Tue May 14 15:25:03 CEST 2024


Test-Label: iol-unit-arm64-testing
Test-Status: SUCCESS
http://dpdk.org/patch/140053

_Testing PASS_

Submitter: Daniil Ushkov <daniil.ushkov at yandex.ru>
Date: Tuesday, May 14 2024 09:16:30 
DPDK git baseline: Repo:dpdk
  Branch: master
  CommitID:7e06c0de1952d3109a5b0c4779d7e7d8059c9d78

140053 --> testing pass

Test environment and result as below:

+-----------------------------+----------------+------------------------------+---------------------------+
|         Environment         | dpdk_unit_test | cryptodev_sw_snow3g_autotest | cryptodev_sw_zuc_autotest |
+=============================+================+==============================+===========================+
| Debian 11 (Buster) (ARM)    | PASS           | SKIPPED                      | SKIPPED                   |
+-----------------------------+----------------+------------------------------+---------------------------+
| CentOS Stream 9 (ARM)       | PASS           | SKIPPED                      | SKIPPED                   |
+-----------------------------+----------------+------------------------------+---------------------------+
| Debian 12 (arm)             | PASS           | PASS                         | PASS                      |
+-----------------------------+----------------+------------------------------+---------------------------+
| Fedora 37 (ARM)             | PASS           | SKIPPED                      | SKIPPED                   |
+-----------------------------+----------------+------------------------------+---------------------------+
| Fedora 38 (ARM)             | PASS           | SKIPPED                      | SKIPPED                   |
+-----------------------------+----------------+------------------------------+---------------------------+
| Fedora 39 (ARM)             | PASS           | SKIPPED                      | SKIPPED                   |
+-----------------------------+----------------+------------------------------+---------------------------+
| 32-bit Ubuntu 20.04.4 (ARM) | PASS           | SKIPPED                      | SKIPPED                   |
+-----------------------------+----------------+------------------------------+---------------------------+
| Ubuntu 20.04 (ARM)          | PASS           | SKIPPED                      | SKIPPED                   |
+-----------------------------+----------------+------------------------------+---------------------------+


Debian 11 (Buster) (ARM)
	Kernel: Container Host Kernel
	Compiler: gcc 10.2.1

CentOS Stream 9 (ARM)
	Kernel: Container Host Kernel
	Compiler: gcc 11.4.1

Debian 12 (arm)
	Kernel: Container Host Kernel
	Compiler: gcc 12.2.0

Fedora 37 (ARM)
	Kernel: Depends on container host
	Compiler: gcc 12.3.1

Fedora 38 (ARM)
	Kernel: Depends on container host
	Compiler: gcc 13.2.1

Fedora 39 (ARM)
	Kernel: Depends on container host
	Compiler: gcc 13.2.1

32-bit Ubuntu 20.04.4 (ARM)
	Kernel: 5.4.0-155-generic aarch64
	Compiler: gcc 9.4

Ubuntu 20.04 (ARM)
	Kernel: Container Host Kernel
	Compiler: gcc 9.4.0

To view detailed results, visit:
https://lab.dpdk.org/results/dashboard/patchsets/29952/

UNH-IOL DPDK Community Lab

To manage your email subscriptions, visit: 
https://lab.dpdk.org/results/dashboard/preferences/subscriptions/


More information about the test-report mailing list