|SUCCESS| pw140066 [PATCH] [v1,1/1] net/e1000/base: fix link power d
dpdklab at iol.unh.edu
dpdklab at iol.unh.edu
Tue May 14 18:19:14 CEST 2024
Test-Label: iol-unit-arm64-testing
Test-Status: SUCCESS
http://dpdk.org/patch/140066
_Testing PASS_
Submitter: Anatoly Burakov <anatoly.burakov at intel.com>
Date: Tuesday, May 14 2024 15:17:16
DPDK git baseline: Repo:dpdk
Branch: master
CommitID:2ac57ed414af92f0c30a799e1824fd47f86a94b0
140066 --> testing pass
Test environment and result as below:
+-----------------------------+----------------+
| Environment | dpdk_unit_test |
+=============================+================+
| CentOS Stream 9 (ARM) | PASS |
+-----------------------------+----------------+
| Debian 11 (Buster) (ARM) | PASS |
+-----------------------------+----------------+
| Fedora 37 (ARM) | PASS |
+-----------------------------+----------------+
| Fedora 38 (ARM Clang) | PASS |
+-----------------------------+----------------+
| 32-bit Ubuntu 20.04.4 (ARM) | PASS |
+-----------------------------+----------------+
CentOS Stream 9 (ARM)
Kernel: Container Host Kernel
Compiler: gcc 11.4.1
Debian 11 (Buster) (ARM)
Kernel: Container Host Kernel
Compiler: gcc 10.2.1
Fedora 37 (ARM)
Kernel: Depends on container host
Compiler: gcc 12.3.1
Fedora 38 (ARM Clang)
Kernel: Depends on container host
Compiler: clang 16.0.6
32-bit Ubuntu 20.04.4 (ARM)
Kernel: 5.4.0-155-generic aarch64
Compiler: gcc 9.4
To view detailed results, visit:
https://lab.dpdk.org/results/dashboard/patchsets/29958/
UNH-IOL DPDK Community Lab
To manage your email subscriptions, visit:
https://lab.dpdk.org/results/dashboard/preferences/subscriptions/
More information about the test-report
mailing list