|SUCCESS| pw140123 [PATCH] net/mlx5: fix bug trunk is null
dpdklab at iol.unh.edu
dpdklab at iol.unh.edu
Wed May 15 12:30:06 CEST 2024
Test-Label: iol-abi-testing
Test-Status: SUCCESS
http://dpdk.org/patch/140123
_Testing PASS_
Submitter: Haifei Luo <haifeil at nvidia.com>
Date: Wednesday, May 15 2024 09:36:53
DPDK git baseline: Repo:dpdk
Branch: master
CommitID:a7699c5af857f57eec072cd19ceb1b03998ffe57
140123 --> testing pass
Test environment and result as below:
+------------------+----------+
| Environment | abi_test |
+==================+==========+
| RHEL8 | PASS |
+------------------+----------+
| Fedora 38 | PASS |
+------------------+----------+
| Debian Bullseye | PASS |
+------------------+----------+
| Fedora 39 | PASS |
+------------------+----------+
| openSUSE Leap 15 | PASS |
+------------------+----------+
RHEL8
Kernel: 5.4.0-167-generic
Compiler: gcc 8.5.0 20210514 (Red Hat 8.5.0-20)
Fedora 38
Kernel: Depends on container host
Compiler: clang 16.0.6
Debian Bullseye
Kernel: 5.4.0-167-generic
Compiler: gcc 10.2.1-6
Fedora 39
Kernel: Depends on container host
Compiler: clang 17.0.6
openSUSE Leap 15
Kernel: 5.4.0-167-generic
Compiler: gcc 7.5.0
To view detailed results, visit:
https://lab.dpdk.org/results/dashboard/patchsets/29962/
UNH-IOL DPDK Community Lab
To manage your email subscriptions, visit:
https://lab.dpdk.org/results/dashboard/preferences/subscriptions/
More information about the test-report
mailing list