|SUCCESS| pw140123 [PATCH] net/mlx5: fix bug trunk is null
dpdklab at iol.unh.edu
dpdklab at iol.unh.edu
Wed May 15 12:46:28 CEST 2024
Test-Label: iol-unit-amd64-testing
Test-Status: SUCCESS
http://dpdk.org/patch/140123
_Testing PASS_
Submitter: Haifei Luo <haifeil at nvidia.com>
Date: Wednesday, May 15 2024 09:36:53
DPDK git baseline: Repo:dpdk
Branch: master
CommitID:a7699c5af857f57eec072cd19ceb1b03998ffe57
140123 --> testing pass
Test environment and result as below:
+---------------------+----------------+
| Environment | dpdk_unit_test |
+=====================+================+
| Windows Server 2019 | PASS |
+---------------------+----------------+
| Debian Bullseye | PASS |
+---------------------+----------------+
| Windows Server 2022 | PASS |
+---------------------+----------------+
Windows Server 2019
Kernel: 10.0.17763
Compiler: clang 14.0 and gcc 8.1.0 (MinGW)
Debian Bullseye
Kernel: 5.4.0-167-generic
Compiler: gcc 10.2.1-6
Windows Server 2022
Kernel: 10.0.20348.2031
Compiler: clang 15.0.7, gcc 8.1.0 (MinGW), and MSVC VS 17.9
To view detailed results, visit:
https://lab.dpdk.org/results/dashboard/patchsets/29962/
UNH-IOL DPDK Community Lab
To manage your email subscriptions, visit:
https://lab.dpdk.org/results/dashboard/preferences/subscriptions/
More information about the test-report
mailing list